Workbook

Sheet Overview
A1: © OnElections.net
A2: United States - Party National Conventions
A3: 2016 Primary Elections - Progressive Overview
A5: As at | B5: 42400
B7: Republican National Convention
B9: Total delegates | C9: ='Republican Party'!V68 -> 2773
B10: majority | C10: =C9/2 -> 1386.5
B12: Donald Trump | C12: ='Republican Party'!Z68 -> 0 | D12: =C12/C$9 -> 0
B13: Ted Cruz | C13: ='Republican Party'!AC68 -> 0 | D13: =C13/C$9 -> 0
B14: Ben Carson | C14: ='Republican Party'!AL68 -> 0 | D14: =C14/C$9 -> 0
B15: Mike Huckabee | C15: ='Republican Party'!AX68 -> 0 | D15: =C15/C$9 -> 0
B16: Rick Santorum | C16: ='Republican Party'!BA68 -> 0 | D16: =C16/C$9 -> 0
B17: Marco Rubio | C17: ='Republican Party'!AF68 -> 0 | D17: =C17/C$9 -> 0
B18: Jeb Bush | C18: ='Republican Party'!AI68 -> 0 | D18: =C18/C$9 -> 0
B19: Chris Christie | C19: ='Republican Party'!AO68 -> 0 | D19: =C19/C$9 -> 0
B20: John Kasich | C20: ='Republican Party'!AR68 -> 0 | D20: =C20/C$9 -> 0
B21: Carly Fiorini | C21: ='Republican Party'!BD68 -> 0 | D21: =C21/C$9 -> 0
B22: Rand Paul | C22: ='Republican Party'!AU68 -> 0 | D22: =C22/C$9 -> 0
B23: Uncomitted | C23: =SUM('Republican Party'!Y68+'Republican Party'!S68+'Republican Party'!R68+'Republican Party'!H68)-SUM('Republican Party'!Z66:'Republican Party'!BD66) -> 512 | D23: =C23/C$9 -> 0.18463758
B27: Democratic National Convention
B29: Total delegates | C29: ='Democratic Party'!U69 -> 4764
B30: majority | C30: =C29/2 -> 2382
B32: Hillary Clinton | C32: ='Democratic Party'!Y69 -> 331 | D32: =C32/C$29 -> 0.069479429
B33: Bernie Sanders | C33: ='Democratic Party'!AB69 -> 11 | D33: =C33/C$29 -> 0.002308984
B34: Martin O'Malley | C34: ='Democratic Party'!AE69 -> 3 | D34: =C34/C$29 -> 0.00062972292
B35: Uncomitted | C35: ='Democratic Party'!X69-SUM('Democratic Party'!Y67:AG67) -> 368 | D35: =C35/C$29 -> 0.077246012

Sheet Timing and methods
B2: Primary and Caucus Timetable
E3: Republican | F3: Democratic
B4: 1 | C4: 42401 | E4: Iowa | F4: Iowa
C5: 42409 | E5: New Hampshire | F5: New Hampshire
C6: 42420 | E6: South Carolina | F6: Nevada
C7: 42423 | E7: Nevada
C8: 42427 | F8: South Carolina
B10: 2 | C10: 42430 | E10: Alabama | F10: Alabama
C11: 42430 | E11: Alaska
C12: 42430 | F12: American Samoa
C13: 42430 | E13: Arkansas | F13: Arkansas
C14: 42430 | E14: Colorado | F14: Colorado
C15: 42430 | E15: Georgia | F15: Georgia
C16: 42430 | E16: Massachusetts | F16: Massachusetts
C17: 42430 | E17: Minnesota | F17: Minnesota
C18: 42430 | E18: North Dakota
C19: 42430 | E19: Oklahoma | F19: Oklahoma
C20: 42430 | E20: Tennessee | F20: Tennessee
C21: 42430 | E21: Texas | F21: Texas
C22: 42430 | E22: Vermont | F22: Vermont
C23: 42430 | E23: Virginia | F23: Virginia
C24: 42430 | E24: Wyoming
B26: 3 | C26: 42434 | E26: Kansas | F26: Kansas
C27: 42434 | E27: Kentucky
C28: 42434 | E28: Louisiana | F28: Louisiana
C29: 42434 | F29: Nebraska
C30: 42435 | E30: Maine | F30: Maine
C31: 42435 | E31: Puerto Rico
C32: 42437 | F32: Democrats abroad
C33: 42437 | E33: Hawaii
C34: 42437 | E34: Idaho
C35: 42437 | E35: Michigan | F35: Michigan
C36: 42437 | E36: Mississippi | F36: Mississippi
B38: 4 | C38: 42441 | E38: Guam
C39: 42441 | E39: Washington, D.C.
C40: 42444 | E40: Florida | F40: Florida
C41: 42444 | E41: Illinois | F41: Illinois
C42: 42444 | E42: Missouri | F42: Missouri
C43: 42444 | E43: North Carolina | F43: North Carolina
C44: 42444 | E44: N'thn Mariana Islands | F44: N'thn Mariana Islands
C45: 42444 | E45: Ohio | F45: Ohio
B47: 5 | C47: 42448 | E47: Virgin Islands
C48: 42451 | E48: American Samoa
C49: 42451 | E49: Arizona | F49: Arizona
C50: 42451 | F50: Idaho
C51: 42451 | E51: Utah | F51: Utah
C52: 42455 | F52: Alaska
C53: 42455 | F53: Hawaii
C54: 42455 | F54: Washington
C55: 42465 | E55: Wisconsin | F55: Wisconsin
C56: 42469 | F56: Wyoming
B58: 6 | C58: 42479 | E58: New York | F58: New York
B60: 7 | C60: 42486 | E60: Connecticut | F60: Connecticut
C61: 42486 | E61: Delaware | F61: Delaware
C62: 42486 | E62: Maryland | F62: Maryland
C63: 42486 | E63: Pennsylvania | F63: Pennsylvania
C64: 42486 | E64: Rhode Island | F64: Rhode Island
B66: 8 | C66: 42493 | E66: Indiana | F66: Indiana
C67: 42497 | F67: Guam
C68: 42500 | E68: Nebraska
C69: 42500 | E69: West Virginia | F69: West Virginia
C70: 42507 | F70: Kentucky
C71: 42507 | E71: Oregon | F71: Oregon
C72: 42514 | E72: Washington
C73: 42525 | F73: Virgin Islands
C74: 42526 | F74: Puerto Rico
B76: 9 | C76: 42528 | E76: California | F76: California
C77: 42528 | E77: Montana | F77: Montana
C78: 42528 | E78: New Jersey | F78: New Jersey
C79: 42528 | E79: New Mexico | F79: New Mexico
C80: 42528 | F80: North Dakota
C81: 42528 | E81: South Dakota | F81: South Dakota
C82: 42535 | F82: Washington, D.C.
B85: Cumulative allocation of pledged delegates
D86: Republican | F86: Democratic
B88: 1 | C88: February - the first 4 states | D88: 4 | E88: 0.047 | F88: 4 | G88: 0.033
B89: 2 | C89: March 1 - Super Tuesday | D89: 14 | E89: 0.282 | F89: 11 (+1) | G89: 0.214
B90: 3 | C90: Early March (to March 10) | D90: 8 (+1) | E90: 0.392 | F90: 6 | G90: 0.28
B91: 4 | C91: Mid-March (March 11-15) | D91: 6 (+2) * | E91: 0.528 | F91: 5 (+1) | G91: 0.426
B92: 5 | C92: Late March - Early April (March 19-April 9) | D92: 3 (+2) | E92: 0.583 | F92: 9 | G92: 0.505
B93: 6 | C93: New York (April 19) | D93: 1 | E93: 0.616 | F93: 1 | G93: 0.556
B94: 7 | C94: North-east states (26 April) | D94: 5 | E94: 0.655 | F94: 5 | G94: 0.637
B95: 8 | C95: May primaries (to June 5) | D95: 5 | E95: 0.71 | F95: 4 (+3) | G95: 0.688
B96: 9 | C96: California and remainder (7 June, 14 June) | D96: 5 | E96: 0.815 | F96: 7 | G96: 0.85
C98: Final total of delegates which are pledged | E98: 0.815 | G98: 0.85
D100: * WTAs begin
B102: Different delegate selection methods
C103: Proportional | E103: 0.45979084 | G103: 0.85
C104: Winner-take-all | E104: 0.28272629
C105: Other | E105: 0.075
C106: Unpledged | E106: 0.185 | G106: 0.15

Sheet Republican Party
A1: © OnElections.net
A2: United States - Republican National Convention
A3: 2016 Primary Elections
B6: State or territory | C6: Primary type | D6: Access | E6: Date | G6: House Districts | H6: State delegates | R6: Congress | T6: Progressive election | Y6: Commitment of delegates
H7: Officials | J7: Election method | L7: Elected in districts | N7: Elected statewide ('at-large') | P7: Total | R7: Congressmen | S7: Senators | T7: this date | V7: %/convention | Y7: Unpledged | Z7: Donald Trump | AC7: Ted Cruz | AF7: Marco Rubio | AI7: Jeb Bush | AL7: Ben Carson | AO7: Chris Christie | AR7: John Kasich | AU7: Rand Paul | AX7: Mike Huckabee | BA7: Rick Santorum | BD7: Carly Fiorini
A8: sort | H8: unpledged | I8: pledged | J8: general | K8: PR threshold | L8: number | M8: notes on election method | N8: number | O8: notes on election method | P8: pledged | Q8: total | R8: (all unpledged) | U8: cumulative | W8: cumulative | Z8: delegates | AA8: votes | AB8: v-share | AC8: delegates | AD8: votes | AE8: v-share | AF8: delegates | AG8: votes | AH8: v-share | AI8: delegates | AJ8: votes | AK8: v-share | AL8: delegates | AM8: votes | AN8: v-share | AO8: delegates | AP8: votes | AQ8: v-share | AR8: delegates | AS8: votes | AT8: v-share | AU8: delegates | AV8: votes | AW8: v-share | AX8: delegates | AY8: votes | AZ8: v-share | BA8: delegates | BB8: votes | BC8: v-share | BD8: delegates | BE8: votes | BF8: v-share
A10: 1 | B10: Iowa | C10: Caucuses | D10: Closed | E10: 42401 | G10: 4 | I10: 3 | J10: Proportional | K10: none | L10: 12 | M10: Based on statewide vote | N10: 15 | P10: =N10+L10+I10 -> 30 | Q10: =H10+P10 -> 30 | R10: 3 | S10: 2 | T10: =P10 -> 30 | U10: =T10 -> 30 | V10: =P10/V$68 -> 0.010818608 | W10: =U10/V$68 -> 0.010818608
A11: 2 | B11: New Hampshire | C11: Primary | D11: Semi-closed | E11: 42409 | G11: 2 | H11: 3 | J11: Proportional | K11: 0.1 | L11: 6 | M11: Based on statewide vote | N11: 14 | P11: =N11+L11+I11 -> 20 | Q11: =H11+P11 -> 23 | R11: 1 | S11: 1 | T11: =P11 -> 20 | U11: =U10+T11 -> 50 | V11: =P11/V$68 -> 0.0072124053 | W11: =U11/V$68 -> 0.018031013
A12: 3 | B12: South Carolina | C12: Primary | D12: Open | E12: 42420 | G12: 7 | I12: 3 | J12: Winner-take-all | L12: 21 | M12: winner-take-all for district delegates by district vote. | N12: 26 | P12: =N12+L12+I12 -> 50 | Q12: =H12+P12 -> 50 | R12: 6 | S12: 2 | T12: =P12 -> 50 | U12: =U11+T12 -> 100 | V12: =P12/V$68 -> 0.018031013 | W12: =U12/V$68 -> 0.036062027
A13: 4 | B13: Nevada | C13: Caucuses | D13: Closed | E13: 42423 | G13: 4 | I13: 3 | J13: Proportional | K13: none | L13: 12 | M13: At-large and district delegates are allocated based on the statewide vote | N13: 15 | P13: =N13+L13+I13 -> 30 | Q13: =H13+P13 -> 30 | R13: 3 | S13: 1 | T13: =P13 -> 30 | U13: =U12+T13 -> 130 | V13: =P13/V$68 -> 0.010818608 | W13: =U13/V$68 -> 0.046880635
A14: 5 | B14: Alabama | C14: Primary | D14: Open | E14: 42430 | G14: 7 | H14: 3 | J14: Proportional | K14: 0.2 | L14: 21 | M14: If a candidate wins more than 50% of the vote in a district, he or she is awarded all of the district's delegates | N14: 26 | O14: If a candidate wins more than 50% of the statewide vote, at-large delegates are allocated on a winner-take-all basis. | P14: =N14+L14+I14 -> 47 | Q14: =H14+P14 -> 50 | R14: 6 | S14: 2 | T14: =SUM(P14:P27) -> 653 | U14: =U13+T14 -> 783 | V14: =P14/V$68 -> 0.016949153 | W14: =U14/V68 -> 0.28236567
A15: 6 | B15: Alaska | C15: Caucuses | D15: Closed | G15: 1 | H15: 3 | J15: Proportional | K15: 0.13 | L15: 3 | M15: Based on statewide vote | N15: 22 | P15: =N15+L15+I15 -> 25 | Q15: =H15+P15 -> 28 | R15: 1 | S15: 2 | V15: =P15/V$68 -> 0.0090155067
A16: 7 | B16: Arkansas | C16: Primary | D16: Open | G16: 4 | H16: 3 | J16: Proportional | K16: various | L16: 12 | M16: No threshold. If a candidate wins more than 50% of the vote in a district, he or she is awarded all of that district's delegates. Otherwise, the highest vote-getter wins two of the district's delegates. One delegate is awarded the second-place candidate | N16: 25 | O16: 15% threshold. All candidates who win at least 15% of the statewide vote are allocated one delegate. If one candidate wins more than 50% of the vote, he or she is awarded the remaining delegates. If no candidate wins more than 50% of the vote, the remaining delegates are allocated proportionally | P16: =N16+L16+I16 -> 37 | Q16: =H16+P16 -> 40 | R16: 4 | S16: 2 | V16: =P16/V$68 -> 0.01334295
A17: 8 | B17: Colorado | C17: Caucuses | D17: Closed | G17: 7 | H17: 3 | J17: Individual delegate election | L17: 21 | M17: Delegates are bound according to the preferred presidential candidate on their intent-to-run forms when they are elected as delegates at state or district conventions | N17: 13 | O17: Delegates are bound according to the preferred presidential candidate on their intent-to-run forms when they are elected as delegates at state or district conventions | P17: =N17+L17+I17 -> 34 | Q17: =H17+P17 -> 37 | R17: 4 | S17: 1 | V17: =P17/V$68 -> 0.012261089
A18: 9 | B18: Georgia | C18: Primary | D18: Open | G18: 14 | I18: 3 | J18: Proportional | K18: various | L18: 42 | M18: Proportional, no threshold – If a candidate wins more than 50% of the vote in a district, he or she receives all of that district's delegates. Otherwise, the highest vote-getter wins two of the district's delegates. One delegate is awarded to the second-place candidate. | N18: 31 | O18: 20% threshold. If a candidate wins more than 50% of the statewide vote, at-large delegates are allocated on a winner-take-all basis. | P18: =N18+L18+I18 -> 76 | Q18: =H18+P18 -> 76 | R18: 10 | S18: 2 | V18: =P18/V$68 -> 0.02740714
A19: 10 | B19: Massachusetts | C19: Primary | D19: Semi-closed | G19: 9 | H19: 3 | J19: Proportional | K19: 0.05 | L19: 27 | M19: Based on statewide vote | N19: 12 | P19: =N19+L19+I19 -> 39 | Q19: =H19+P19 -> 42 | R19: 0 | S19: 0 | V19: =P19/V$68 -> 0.01406419
A20: 11 | B20: Minnesota | C20: Caucuses | D20: Open | G20: 8 | H20: 3 | J20: Proportional | K20: 0.1 | L20: 24 | M20: If a candidate wins more than 85% of the statewide vote, he or she is awarded all at-large and district delegates | N20: 11 | O20: If a candidate wins more than 85% of the statewide vote, at-large delegates are allocated on a winner-take-all basis. | P20: =N20+L20+I20 -> 35 | Q20: =H20+P20 -> 38 | R20: 3 | S20: 0 | V20: =P20/V$68 -> 0.012621709
A21: 12 | B21: North Dakota | C21: Caucuses | D21: Closed | G21: 1 | H21: 3 | J21: Individual delegate election | L21: 3 | M21: Delegates are bound according to the preferred presidential candidate on their intent-to-run forms when they are elected as delegates at state or district conventions | N21: 22 | O21: Delegates are bound according to the preferred presidential candidate on their intent-to-run forms when they are elected as delegates at state or district conventions | P21: =N21+L21+I21 -> 25 | Q21: =H21+P21 -> 28 | R21: 1 | S21: 1 | V21: =P21/V$68 -> 0.0090155067
A22: 13 | B22: Oklahoma | C22: Primary | D22: Closed | G22: 5 | H22: 3 | J22: Proportional | K22: 0.15 | L22: 15 | M22: If only one candidate in a district wins more than 15% of the vote, he or she is awarded all of the district's delegates. If two candidates win more than 15% in a district, the first-place finisher is awarded two of the district's three delegates and the second-place finisher is awarded one. If three or more candidates receive more than 15% of the vote in a district, each of the top three candidates is awarded one delegate a piece. If one candidate receives more than 50% of the vote in a district, he or she is awarded all of the district's delegates | N22: 25 | O22: If a candidate wins more than 50% of the statewide vote, at-large delegates are allocated on a winner-take-all basis. | P22: =N22+L22+I22 -> 40 | Q22: =H22+P22 -> 43 | R22: 5 | S22: 2 | V22: =P22/V$68 -> 0.014424811
A23: 14 | B23: Tennessee | C23: Primary | D23: Open | G23: 9 | H23: 3 | J23: Proportional | K23: 0.2 | L23: 27 | M23: If a candidate receives more than 66% of the vote in a district, he or she is awarded all of the district's delegates. If the winning candidate in a district receives between 20% and 66% of the vote in the district, he or she is awarded two of the district's three delegates. The second-place finisher is awarded one delegate (if the second-place finisher wins less than 20% of the vote, then the first-place finisher is awarded all of the district's delegates). If no candidate wins more than 20% of the vote, the top three finishers each are awarded one delegate. | N23: 28 | O23: If a candidate wins more than 66% of the statewide vote, at-large delegates are allocated on a winner-take-all basis. | P23: =N23+L23+I23 -> 55 | Q23: =H23+P23 -> 58 | R23: 7 | S23: 2 | V23: =P23/V$68 -> 0.019834115
A24: 15 | B24: Texas | C24: Primary | D24: Open | G24: 36 | H24: 3 | J24: Proportional | K24: 0.2 | L24: 108 | M24: If a candidate wins more than 50% of the vote in a district, he or she is awarded all of the district's delegates | N24: 44 | O24: If a candidate wins more than 50% of the statewide vote, at-large delegates are allocated on a winner-take-all basis. | P24: =N24+L24+I24 -> 152 | Q24: =H24+P24 -> 155 | R24: 25 | S24: 2 | V24: =P24/V$68 -> 0.054814281
A25: 16 | B25: Vermont | C25: Primary | D25: Open | G25: 1 | I25: 3 | J25: Proportional | K25: 0.2 | L25: 3 | M25: Based on statewide vote. If a candidate receives more than 50% of the statewide vote, all at-large and district delegates are allocated on a winner-take-all basis. | N25: 10 | O25: If a candidate wins more than 50% of the statewide vote, at-large delegates are allocated on a winner-take-all basis. | P25: =N25+L25+I25 -> 16 | Q25: =H25+P25 -> 16 | R25: 0 | S25: 0 | V25: =P25/V$68 -> 0.0057699243
A26: 17 | B26: Virginia | C26: Primary | D26: Open | G26: 11 | H26: 3 | J26: Proportional | K26: none | L26: 33 | M26: Based on statewide vote | N26: 13 | P26: =N26+L26+I26 -> 46 | Q26: =H26+P26 -> 49 | R26: 8 | S26: 0 | V26: =P26/V$68 -> 0.016588532
A27: 18 | B27: Wyoming | C27: Caucuses | D27: Closed | G27: 1 | H27: 3 | J27: Individual delegate election | L27: 3 | M27: Delegates are bound according to the preferred presidential candidate on their intent-to-run forms when they are elected as delegates at state or district conventions | N27: 23 | O27: Delegates are bound according to the preferred presidential candidate on their intent-to-run forms when they are elected as delegates at state or district conventions | P27: =N27+L27+I27 -> 26 | Q27: =H27+P27 -> 29 | R27: 1 | S27: 2 | V27: =P27/V$68 -> 0.0093761269
A28: 19 | B28: Kansas | C28: Caucuses | D28: Closed | E28: 42434 | G28: 4 | I28: 3 | J28: Proportional | K28: 0.1 | L28: 12 | N28: 25 | P28: =N28+L28+I28 -> 40 | Q28: =H28+P28 -> 40 | R28: 4 | S28: 2 | T28: =SUM(P28:P31) -> 146 | U28: =U14+T28 -> 929 | V28: =P28/V$68 -> 0.014424811 | W28: =U28/V68 -> 0.33501623
A29: 20 | B29: Kentucky | C29: Caucuses | D29: Closed | G29: 6 | H29: 3 | J29: Proportional | K29: 0.05 | L29: 18 | M29: Based on statewide vote | N29: 24 | P29: =N29+L29+I29 -> 42 | Q29: =H29+P29 -> 45 | R29: 5 | S29: 2 | V29: =P29/V$68 -> 0.015146051
A30: 21 | B30: Louisiana | C30: Primary | D30: Closed | G30: 6 | H30: 3 | J30: Proportional | K30: various | L30: 18 | M30: no threshold | N30: 26 | O30: 20% threshold | P30: =N30+L30+I30 -> 44 | Q30: =H30+P30 -> 47 | R30: 5 | S30: 2 | V30: =P30/V$68 -> 0.015867292
A31: 22 | B31: Maine | C31: Caucuses | D31: Closed | G31: 2 | H31: 3 | J31: Proportional | K31: 0.1 | L31: 6 | M31: Based on statewide vote. If a candidate receives more than 50% of the statewide vote, all at-large and district delegates are allocated on a winner-take-all basis. | N31: 14 | O31: If a candidate wins more than 50% of the statewide vote, at-large delegates are allocated on a winner-take-all basis. | P31: =N31+L31+I31 -> 20 | Q31: =H31+P31 -> 23 | R31: 1 | S31: 1 | V31: =P31/V$68 -> 0.0072124053
A32: 23 | B32: Puerto Rico | C32: Primary | D32: Open | E32: 42435 | H32: 3 | J32: Proportional | K32: 0.2 | L32: 0 | N32: 20 | O32: If a candidate wins more than 50% of the statewide vote, at-large delegates are allocated on a winner-take-all basis. | P32: =N32+L32+I32 -> 20 | Q32: =H32+P32 -> 23 | R32: - | S32: - | T32: =P32 -> 20 | U32: =U28+T32 -> 949 | V32: =P32/V$68 -> 0.0072124053 | W32: =U32/V$68 -> 0.34222863
A33: 24 | B33: Hawaii | C33: Caucuses | D33: Closed | E33: 42437 | G33: 2 | H33: 3 | J33: Proportional | K33: none | L33: 6 | N33: 10 | P33: =N33+L33+I33 -> 16 | Q33: =H33+P33 -> 19 | R33: 0 | S33: 0 | T33: =SUM(P33:P36) -> 138 | U33: =U32+T33 -> 1087 | V33: =P33/V$68 -> 0.0057699243 | W33: =U33/V68 -> 0.39199423
A34: 25 | B34: Idaho | C34: Primary | D34: Closed | G34: 2 | H34: 3 | J34: Proportional | K34: 0.2 | L34: 6 | M34: Based on statewide vote. If a candidate receives more than 50% of the statewide vote, all at-large and district delegates are allocated on a winner-take-all basis. | N34: 23 | O34: If a candidate wins more than 50% of the statewide vote, at-large delegates are allocated on a winner-take-all basis. | P34: =N34+L34+I34 -> 29 | Q34: =H34+P34 -> 32 | R34: 2 | S34: 2 | V34: =P34/V$68 -> 0.010457988
A35: 26 | B35: Michigan | C35: Primary | D35: Open | G35: 14 | H35: 3 | J35: Proportional | K35: 0.15 | L35: 42 | M35: Based on statewide vote. If a candidate receives more than 50% of the statewide vote, all at-large and district delegates are allocated on a winner-take-all basis. | N35: 14 | O35: If a candidate wins more than 50% of the statewide vote, at-large delegates are allocated on a winner-take-all basis. | P35: =N35+L35+I35 -> 56 | Q35: =H35+P35 -> 59 | R35: 9 | S35: 0 | V35: =P35/V$68 -> 0.020194735
A36: 27 | B36: Mississippi | C36: Primary | D36: Open | G36: 4 | H36: 3 | J36: Proportional | K36: various | L36: 12 | M36: No threshold. The candidate who wins the greatest number of votes in a district is awarded two of that district's delegates. The second-place finisher receives one delegate. If a candidate wins more than 50% of the vote in a district, he or she receives all three of that district's delegates | N36: 25 | O36: 15% threshold | P36: =N36+L36+I36 -> 37 | Q36: =H36+P36 -> 40 | R36: 3 | S36: 2 | V36: =P36/V$68 -> 0.01334295
A37: 28 | B37: Guam | C37: Territorial convention | D37: Closed | E37: 42441 | H37: 3 | J37: Individual delegate election | L37: 0 | M37: Delegates are bound according to the preferred presidential candidate on their intent-to-run forms when they are elected as delegates at a convention | N37: 6 | O37: Delegates are bound according to the preferred presidential candidate on their intent-to-run forms when they are elected as delegates at a convention | P37: =N37+L37+I37 -> 6 | Q37: =H37+P37 -> 9 | R37: - | S37: - | T37: =P37+P38 -> 22 | U37: =U33+T37 -> 1109 | V37: =P37/V$68 -> 0.0021637216 | W37: =U37/V68 -> 0.39992788
A38: 29 | B38: Washington, D.C. | C38: Convention | D38: Closed | H38: 3 | J38: Proportional | K38: 0.15 | L38: 0 | M38: (no districts) | N38: 16 | P38: =N38+L38+I38 -> 16 | Q38: =H38+P38 -> 19 | R38: 0 | S38: - | V38: =P38/V$68 -> 0.0057699243
A39: 30 | B39: Florida | C39: Primary | D39: Closed | E39: 42444 | G39: 27 | I39: 3 | J39: Winner-take-all | L39: 81 | M39: Based on statewide vote | N39: 15 | P39: =N39+L39+I39 -> 99 | Q39: =H39+P39 -> 99 | R39: 17 | S39: 1 | T39: =SUM(P39:P44) -> 355 | U39: =U37+T39 -> 1464 | V39: =P39/V$68 -> 0.035701406 | W39: =U39/V68 -> 0.52794807
A40: 31 | B40: Illinois | C40: Primary | D40: Open | G40: 18 | H40: 3 | J40: Direct election/WTA | L40: 54 | M40: Delegates are bound according to the preferred presidential candidate on their intent-to-run forms when they are elected as delegates | N40: 12 | P40: =N40+L40+I40 -> 66 | Q40: =H40+P40 -> 69 | R40: 8 | S40: 1 | V40: =P40/V$68 -> 0.023800938
A41: 32 | B41: Missouri | C41: Primary | D41: Open | G41: 8 | H41: 3 | J41: Winner-take-all | K41: none | L41: 24 | M41: The winner candidate in each district is awarded five delegates (three district delegates and two at-large delegates). The remaining at-large delegates are awarded to the statewide winner. If a candidate receives more than 50% of the statewide vote, he or she is awarded all of the state's at-large and district delegates | N41: 25 | O41: The winner candidate in each district is awarded five delegates (three district delegates and two at-large delegates). The remaining at-large delegates are awarded to the statewide winner. If a candidate receives more than 50% of the statewide vote, he or she is awarded all of the state's at-large and district delegates | P41: =N41+L41+I41 -> 49 | Q41: =H41+P41 -> 52 | R41: 6 | S41: 1 | V41: =P41/V$68 -> 0.017670393
A42: 33 | B42: North Carolina | C42: Primary | D42: Semi-closed | G42: 13 | I42: 3 | J42: Proportional | K42: none | L42: 39 | M42: Based on statewide vote | N42: 30 | P42: =N42+L42+I42 -> 72 | Q42: =H42+P42 -> 72 | R42: 10 | S42: 2 | V42: =P42/V$68 -> 0.025964659
A43: 34 | B43: Northern Mariana Islands | C43: Caucuses | D43: Closed | H43: 3 | J43: Winner-take-all | L43: 0 | M43: (no districts) | N43: 6 | P43: =N43+L43+I43 -> 6 | Q43: =H43+P43 -> 9 | R43: - | S43: - | V43: =P43/V$68 -> 0.0021637216
A44: 35 | B44: Ohio | C44: Primary | D44: Semi-open | G44: 16 | H44: 3 | J44: Winner-take-all | L44: 48 | M44: Based on statewide vote | N44: 15 | P44: =N44+L44+I44 -> 63 | Q44: =H44+P44 -> 66 | R44: 12 | S44: 1 | V44: =P44/V$68 -> 0.022719077
A45: 36 | B45: Virgin Islands | C45: Caucuses | D45: Open | E45: 42448 | H45: 3 | J45: Winner-take-all | L45: 0 | M45: (no districts) | N45: 6 | P45: =N45+L45+I45 -> 6 | Q45: =H45+P45 -> 9 | R45: - | S45: - | T45: =P45 -> 6 | U45: =U39+T45 -> 1470 | V45: =P45/V$68 -> 0.0021637216 | W45: =U45/V$68 -> 0.53011179
A46: 37 | B46: American Samoa | C46: Territorial convention | D46: Open | E46: 42451 | H46: 3 | J46: Individual delegate election | L46: 0 | M46: Delegates are bound according to the preferred presidential candidate on their intent-to-run forms when they are elected as delegates at a convention | N46: 6 | O46: Delegates are bound according to the preferred presidential candidate on their intent-to-run forms when they are elected as delegates at a convention | P46: =N46+L46+I46 -> 6 | Q46: =H46+P46 -> 9 | R46: - | S46: - | T46: =SUM(P46:P48) -> 104 | U46: =U45+T46 -> 1574 | V46: =P46/V$68 -> 0.0021637216 | W46: =U46/V68 -> 0.5676163
A47: 38 | B47: Arizona | C47: Primary | D47: Open | G47: 9 | I47: 3 | J47: Winner-take-all | L47: 27 | M47: Based on statewide vote | N47: 28 | P47: =N47+L47+I47 -> 58 | Q47: =H47+P47 -> 58 | R47: 5 | S47: 2 | V47: =P47/V$68 -> 0.020915975
A48: 39 | B48: Utah | C48: Caucuses | D48: Closed | G48: 4 | I48: 3 | J48: Proportional | K48: 0.15 | L48: 12 | M48: Based on statewide vote. If a candidate receives more than 50% of the statewide vote, all at-large and district delegates are allocated on a winner-take-all basis. | N48: 25 | O48: If a candidate wins more than 50% of the statewide vote, at-large delegates are allocated on a winner-take-all basis. | P48: =N48+L48+I48 -> 40 | Q48: =H48+P48 -> 40 | R48: 4 | S48: 2 | V48: =P48/V$68 -> 0.014424811
A49: 40 | B49: Wisconsin | C49: Primary | D49: Open | E49: 42465 | G49: 8 | I49: 3 | J49: Winner-take-all | L49: 24 | M49: Winner-take-all within each district based on district vote | N49: 15 | P49: =N49+L49+I49 -> 42 | Q49: =H49+P49 -> 42 | R49: 5 | S49: 1 | T49: =P49 -> 42 | U49: =U46+T49 -> 1616 | V49: =P49/V$68 -> 0.015146051 | W49: =U49/V$68 -> 0.58276235
A50: 41 | B50: New York | C50: Primary | D50: Closed | E50: 42479 | G50: 27 | H50: 3 | J50: Proportional | K50: 0.2 | L50: 81 | M50: The highest vote-getter in a district receives two of the district's three delegates. The second-place finisher receives one delegate. If a candidate wins more than 50% of the vote in a district, he or she is awarded all of the district's delegates | N50: 11 | O50: If a candidate wins more than 50% of the statewide vote, at-large delegates are allocated on a winner-take-all basis. | P50: =N50+L50+I50 -> 92 | Q50: =H50+P50 -> 95 | R50: 9 | S50: 0 | T50: =P50 -> 92 | U50: =U49+T50 -> 1708 | V50: =P50/V$68 -> 0.033177065 | W50: =U50/V$68 -> 0.61593942
A51: 42 | B51: Connecticut | C51: Primary | D51: Closed | E51: 42486 | G51: 5 | H51: 3 | J51: Various | L51: 15 | M51: Winner-take-all within each district based on district vote. If a candidate wins more than 50% of the statewide vote all at-large and district delegates are allocated on a winner-take-all basis. | N51: 10 | O51: Proportional, 20% threshold. If a candidate wins more than 50% of the statewide vote all at-large and district delegates are allocated on a winner-take-all basis. | P51: =N51+L51+I51 -> 25 | Q51: =H51+P51 -> 28 | R51: 0 | S51: 0 | T51: =SUM(P51:P55) -> 109 | U51: =U50+T51 -> 1817 | V51: =P51/V$68 -> 0.0090155067 | W51: =U51/V68 -> 0.65524702
A52: 43 | B52: Delaware | C52: Primary | D52: Closed | G52: 1 | I52: 3 | J52: Winner-take-all | L52: 3 | M52: Winner-take-all within each district based on district vote | N52: 10 | P52: =N52+L52+I52 -> 16 | Q52: =H52+P52 -> 16 | R52: 0 | S52: 0 | V52: =P52/V$68 -> 0.0057699243
A53: 44 | B53: Maryland | C53: Primary | D53: Closed | G53: 8 | I53: 3 | J53: Winner-take-all | L53: 24 | M53: Winner-take-all within each district based on district vote | N53: 11 | P53: =N53+L53+I53 -> 38 | Q53: =H53+P53 -> 38 | R53: 1 | S53: 0 | V53: =P53/V$68 -> 0.01370357
A54: 45 | B54: Pennsylvania | C54: Primary | D54: Closed | G54: 18 | H54: 3 | J54: Various | L54: 54 | M54: Delegates are directly elected and are unpledged | N54: 14 | O54: Winner-take-all | P54: =N54+I54 -> 14 | Q54: 57 | R54: 13 | S54: 1 | V54: =P54/V$68 -> 0.0050486837 | Y54: 54
A55: 46 | B55: Rhode Island | C55: Primary | D55: Semi-closed | G55: 2 | H55: 3 | J55: Proportional | K55: 0.1 | L55: 6 | M55: If three candidates each win more than 10% of the vote in a district, each is awarded one of the district's three delegates. If a candidate wins more than 67% of the vote in a district, he or she is awarded all of the district's delegates. | N55: 10 | P55: =N55+L55+I55 -> 16 | Q55: =H55+P55 -> 19 | R55: 0 | S55: 0 | V55: =P55/V$68 -> 0.0057699243
A56: 47 | B56: Indiana | C56: Primary | D56: Open | E56: 42493 | G56: 9 | H56: 3 | J56: Winner-take-all | L56: 27 | M56: Winner-take-all within each district based on district vote | N56: 27 | P56: =N56+L56+I56 -> 54 | Q56: =H56+P56 -> 57 | R56: 7 | S56: 1 | T56: =P56 -> 54 | U56: =U51+T56 -> 1871 | V56: =P56/V$68 -> 0.019473494 | W56: =U56/V$68 -> 0.67472052
A57: 48 | B57: Nebraska | C57: Primary | D57: Closed | E57: 42500 | G57: 3 | H57: 3 | J57: Winner-take-all | L57: 9 | M57: Based on statewide vote | N57: 24 | P57: =N57+L57+I57 -> 33 | Q57: =H57+P57 -> 36 | R57: 2 | S57: 2 | T57: =P57+P58 -> 33 | U57: =U56+T57 -> 1904 | V57: =P57/V$68 -> 0.011900469 | W57: =U57/V68 -> 0.68662099
A58: 49 | B58: West Virginia | C58: Primary | D58: Semi-closed | G58: 3 | H58: 3 | J58: Direct election | L58: 9 | M58: Delegates are directly elected and are unpledged | N58: 22 | O58: Delegates are directly elected and are unpledged | P58: 0 | Q58: 34 | R58: 3 | S58: 1 | V58: =P58/V$68 -> 0 | Y58: 31
A59: 50 | B59: Oregon | C59: Primary | D59: Closed | E59: 42507 | G59: 5 | H59: 3 | J59: Proportional | K59: none | L59: 15 | M59: Based on statewide vote | N59: 10 | P59: =N59+L59+I59 -> 25 | Q59: =H59+P59 -> 28 | R59: 1 | S59: 0 | T59: =P59 -> 25 | U59: =U57+T59 -> 1929 | V59: =P59/V$68 -> 0.0090155067 | W59: =U59/V$68 -> 0.69563649
A60: 51 | B60: Washington | C60: Primary | D60: Closed | E60: 42514 | G60: 10 | H60: 3 | J60: Proportional | K60: 0.2 | L60: 30 | M60: If a candidate wins more than 50% of the vote in a district, he or she is awarded all of the district's delegates. If only one candidate wins more than 20% of the vote in a district, he or she is awarded all of the district's delegates. | N60: 11 | P60: =N60+L60+I60 -> 41 | Q60: =H60+P60 -> 44 | R60: 4 | S60: 0 | T60: =P60 -> 41 | U60: =U59+T60 -> 1970 | V60: =P60/V$68 -> 0.014785431 | W60: =U60/V$68 -> 0.71042193
A61: 52 | B61: California | C61: Primary | D61: Closed | E61: 42528 | G61: 53 | H61: 3 | J61: Winner-take-all | L61: 159 | M61: Winner-take-all within each district based on district vote | N61: 10 | P61: =N61+L61+I61 -> 169 | Q61: =H61+P61 -> 172 | R61: 14 | S61: 0 | T61: =SUM(P61:P65) -> 291 | U61: =U60+T61 -> 2261 | V61: =P61/V$68 -> 0.060944825 | W61: =U61/V68 -> 0.81536242
A62: 53 | B62: Montana | C62: Primary | D62: Open | G62: 1 | H62: 3 | J62: Winner-take-all | L62: 3 | M62: Based on statewide vote | N62: 21 | P62: =N62+L62+I62 -> 24 | Q62: =H62+P62 -> 27 | R62: 1 | S62: 1 | V62: =P62/V$68 -> 0.0086548864
A63: 54 | B63: New Jersey | C63: Primary | D63: Semi-closed | G63: 12 | I63: 3 | J63: Winner-take-all | L63: 36 | M63: Based on statewide vote | N63: 12 | P63: =N63+L63+I63 -> 51 | Q63: =H63+P63 -> 51 | R63: 6 | S63: 0 | V63: =P63/V$68 -> 0.018391634
A64: 55 | B64: New Mexico | C64: Primary | D64: Closed | G64: 3 | H64: 3 | J64: Proportional | K64: 0.15 | L64: 9 | M64: Based on statewide vote | N64: 12 | P64: =N64+L64+I64 -> 21 | Q64: =H64+P64 -> 24 | R64: 1 | S64: 0 | V64: =P64/V$68 -> 0.0075730256
A65: 56 | B65: South Dakota | C65: Primary | D65: Closed | G65: 1 | H65: 3 | J65: Winner-take-all | L65: 3 | M65: Based on statewide vote | N65: 23 | P65: =N65+L65+I65 -> 26 | Q65: =H65+P65 -> 29 | R65: 1 | S65: 2 | V65: =P65/V$68 -> 0.0093761269
A66: 57 | B66: Senators, congressmen and unpledged officials | H66: =SUM(H10:H65) -> 126 | R66: =SUM(R10:R65) -> 247 | S66: =SUM(S10:S65) -> 54 | V66: =(R66+S66+H66+Y68)/V$68 -> 0.18463758
B68: Total | G68: =SUM(G10:G66) -> 435 | H68: =H66 -> 126 | I68: =SUM(I10:I65) -> 42 | L68: =SUM(L10:L65) -> 1305 | N68: =SUM(N10:N65) -> 999 | P68: =SUM(P10:P65) -> 2261 | Q68: =SUM(Q10:Q65) -> 2458 | R68: =R66 -> 247 | S68: =S66 -> 54 | V68: =R68+S68+H68+I68+L68+N68 -> 2773 | Y68: =SUM(Y10:Y65) -> 85 | Z68: =SUM(Z10:Z66) -> 0 | AB68: =SUM(AB10:AB65) -> 0 | AC68: =SUM(AC10:AC66) -> 0 | AE68: =SUM(AE10:AE65) -> 0 | AF68: =SUM(AF10:AF66) -> 0 | AH68: =SUM(AH10:AH65) -> 0 | AI68: =SUM(AI10:AI66) -> 0 | AK68: =SUM(AK10:AK65) -> 0 | AL68: =SUM(AL10:AL66) -> 0 | AN68: =SUM(AN10:AN65) -> 0 | AO68: =SUM(AO10:AO66) -> 0 | AQ68: =SUM(AQ10:AQ65) -> 0 | AR68: =SUM(AR10:AR66) -> 0 | AT68: =SUM(AT10:AT65) -> 0 | AU68: =SUM(AU10:AU66) -> 0 | AW68: =SUM(AW10:AW65) -> 0 | AX68: =SUM(AX10:AX66) -> 0 | AZ68: =SUM(AZ10:AZ65) -> 0 | BA68: =SUM(BA10:BA66) -> 0 | BC68: =SUM(BC10:BC65) -> 0 | BD68: =SUM(BD10:BD66) -> 0 | BF68: =SUM(BF10:BF65) -> 0
B73: Source: largely based on data and comments in Wikipedia's entry at https://en.wikipedia.org/wiki/Republican_Party_presidential_primaries,_2016, accessed on 15 January 2016
J74: Proportional | V74: =SUMIF(J$10:J$65,J74,V$10:V$65) -> 0.45979084
J75: Winner-take-all | V75: =SUMIF(J$10:J$65,J75,V$10:V$65) -> 0.28272629
J76: Other | V76: =1-V66-V74-V75 -> 0.072845294
J77: Unpledged | V77: =V66 -> 0.18463758

Sheet Democratic Party
A1: © OnElections.net
A2: United States - Democratic National Convention
A3: 2016 Primary Elections
B6: State or territory | C6: Primary type | D6: Access | E6: Registration | G6: Date | I6: House Districts | J6: Pledged delegates | N6: Unpledged delegates | S6: Progressive election | X6: Commitment of delegates | AI6: Polling estimates - Daily Kos summary 26 January
F7: by… | J7: District | K7: Statewide ('at-large') | L7: PLEOs | M7: Total | N7: Congressmen | O7: Senators | P7: DNC | Q7: Governors | R7: DPL | S7: this date | U7: %/convention | X7: Unpledged | Y7: Hillary Clinton | AB7: Bernie Sanders | AE7: Martin O'Malley | AI7: Poll aggregate | AK7: Delegate projections
A8: sort | J8: number | K8: number | L8: number | M8: pledged | T8: cumulative | V8: cumulative | Y8: delegates | Z8: votes | AA8: v-share | AB8: delegates | AC8: votes | AD8: v-share | AE8: delegates | AF8: votes | AG8: v-share | AI8: Sanders | AJ8: Clinton | AK8: Sanders | AL8: Clinton
A10: 1 | B10: Iowa | C10: Caucuses | D10: Semi-open | E10: Must register as other than Republican | F10: same-day | G10: 42401 | I10: 4 | J10: 29 | K10: 9 | L10: 6 | M10: =SUM(J10:L10) -> 44 | N10: 1 | P10: 7 | S10: =M10 -> 44 | T10: =S10 -> 44 | U10: =M10/U$69 -> 0.0092359362 | V10: =T10/U$69 -> 0.0092359362 | X10: =SUM(N10:R10) -> 8 | AI10: 0.44 | AJ10: 0.46 | AK10: =M10*AI10/(AI10+AJ10) -> 21.511111 | AL10: =M10*AJ10/(AJ10+AI10) -> 22.488889
A11: 2 | B11: New Hampshire | C11: Primary | D11: Semi-closed | E11: Must register as Democrat or undeclared | F11: same-day | G11: 42409 | I11: 2 | J11: 16 | K11: 5 | L11: 3 | M11: =SUM(J11:L11) -> 24 | N11: 1 | O11: 1 | P11: 6 | S11: =M11 -> 24 | T11: =T10+S11 -> 68 | U11: =M11/U$69 -> 0.0050377834 | V11: =T11/U$69 -> 0.01427372 | X11: =SUM(N11:R11) -> 8 | AI11: 0.48 | AJ11: 0.4 | AK11: =M11*AI11/(AI11+AJ11) -> 13.090909 | AL11: =M11*AJ11/(AJ11+AI11) -> 10.909091
A12: 3 | B12: Nevada | C12: Caucuses | D12: Closed | E12: Must register as Democrat | F12: same-day | G12: 42420 | I12: 4 | J12: 23 | K12: 7 | L12: 5 | M12: =SUM(J12:L12) -> 35 | N12: 1 | P12: 7 | S12: =M12 -> 35 | T12: =T11+S12 -> 103 | U12: =M12/U$69 -> 0.0073467674 | V12: =T12/U$69 -> 0.021620487 | X12: =SUM(N12:R12) -> 8 | AI12: 0.38 | AJ12: 0.52 | AK12: =M12*AI12/(AI12+AJ12) -> 14.777778 | AL12: =M12*AJ12/(AJ12+AI12) -> 20.222222
A13: 4 | B13: South Carolina | C13: Primary | D13: Open | E13: Must register | F13: 42396 | G13: 42427 | I13: 7 | J13: 35 | K13: 11 | L13: 7 | M13: =SUM(J13:L13) -> 53 | N13: 1 | P13: 5 | S13: =M13 -> 53 | T13: =T12+S13 -> 156 | U13: =M13/U$69 -> 0.011125105 | V13: =T13/U$69 -> 0.032745592 | X13: =SUM(N13:R13) -> 6 | AI13: 0.27 | AJ13: 0.57 | AK13: =M13*AI13/(AI13+AJ13) -> 17.035714 | AL13: =M13*AJ13/(AJ13+AI13) -> 35.964286
A14: 5 | B14: Alabama | C14: Primary | D14: Open | E14: Must register | F14: 42412 | G14: 42430 | I14: 7 | J14: 35 | K14: 11 | L14: 7 | M14: =SUM(J14:L14) -> 53 | N14: 1 | P14: 6 | S14: =SUM(M14:M25) -> 865 | T14: =T13+S14 -> 1021 | U14: =M14/U$69 -> 0.011125105 | V14: =T14/U69 -> 0.2143157 | X14: =SUM(N14:R14) -> 7 | AI14: 0.27 | AJ14: 0.58 | AK14: =M14*AI14/(AI14+AJ14) -> 16.835294 | AL14: =M14*AJ14/(AJ14+AI14) -> 36.164706
A15: 6 | B15: American Samoa | C15: Caucuses | D15: Closed | G15: 42430 | K15: 6 | M15: =SUM(J15:L15) -> 6 | P15: 4 | U15: =M15/U$69 -> 0.0012594458 | X15: =SUM(N15:R15) -> 4
A16: 7 | B16: Arkansas | C16: Primary | D16: Open | E16: Must register | F16: 42401 | G16: 42430 | I16: 4 | J16: 21 | K16: 7 | L16: 4 | M16: =SUM(J16:L16) -> 32 | P16: 5 | U16: =M16/U$69 -> 0.0067170445 | X16: =SUM(N16:R16) -> 5 | AI16: 0.27 | AJ16: 0.57 | AK16: =M16*AI16/(AI16+AJ16) -> 10.285714 | AL16: =M16*AJ16/(AJ16+AI16) -> 21.714286
A17: 8 | B17: Colorado | C17: Caucuses | D17: Closed | E17: Must register as Democrat | F17: 42373 | G17: 42430 | I17: 7 | J17: 43 | K17: 14 | L17: 9 | M17: =SUM(J17:L17) -> 66 | N17: 3 | O17: 1 | P17: 7 | Q17: 1 | R17: 1 | U17: =M17/U$69 -> 0.013853904 | X17: =SUM(N17:R17) -> 13 | AI17: 0.48 | AJ17: 0.42 | AK17: =M17*AI17/(AI17+AJ17) -> 35.2 | AL17: =M17*AJ17/(AJ17+AI17) -> 30.8
A18: 9 | B18: Georgia | C18: Primary | D18: Open | E18: Must register | F18: 42401 | G18: 42430 | I18: 14 | J18: 67 | K18: 22 | L18: 13 | M18: =SUM(J18:L18) -> 102 | N18: 4 | P18: 9 | R18: 1 | U18: =M18/U$69 -> 0.021410579 | X18: =SUM(N18:R18) -> 14 | AI18: 0.29 | AJ18: 0.58 | AK18: =M18*AI18/(AI18+AJ18) -> 34 | AL18: =M18*AJ18/(AJ18+AI18) -> 68
A19: 10 | B19: Massachusetts | C19: Primary | D19: Semi-closed | E19: Must register as Democrat or undeclared | F19: 42410 | G19: 42430 | I19: 9 | J19: 59 | K19: 20 | L19: 12 | M19: =SUM(J19:L19) -> 91 | N19: 9 | O19: 2 | P19: 11 | R19: 3 | U19: =M19/U$69 -> 0.019101595 | X19: =SUM(N19:R19) -> 25 | AI19: 0.44 | AJ19: 0.47 | AK19: =M19*AI19/(AI19+AJ19) -> 44 | AL19: =M19*AJ19/(AJ19+AI19) -> 47
A20: 11 | B20: Minnesota | C20: Caucuses | D20: Open | E20: Must register | F20: same-day | G20: 42430 | I20: 8 | J20: 50 | K20: 17 | L20: 10 | M20: =SUM(J20:L20) -> 77 | N20: 5 | O20: 2 | P20: 7 | Q20: 1 | R20: 1 | U20: =M20/U$69 -> 0.016162888 | X20: =SUM(N20:R20) -> 16 | AI20: 0.48 | AJ20: 0.4 | AK20: =M20*AI20/(AI20+AJ20) -> 42 | AL20: =M20*AJ20/(AJ20+AI20) -> 35
A21: 12 | B21: Oklahoma | C21: Primary | D21: Semi-closed | E21: Must register as Democrat or undeclared | F21: 42405 | G21: 42430 | I21: 5 | J21: 25 | K21: 8 | L21: 5 | M21: =SUM(J21:L21) -> 38 | P21: 4 | U21: =M21/U$69 -> 0.0079764903 | X21: =SUM(N21:R21) -> 4 | AI21: 0.35 | AJ21: 0.51 | AK21: =M21*AI21/(AI21+AJ21) -> 15.465116 | AL21: =M21*AJ21/(AJ21+AI21) -> 22.534884
A22: 13 | B22: Tennessee | C22: Primary | D22: Open | E22: Must register | F22: 42401 | G22: 42430 | I22: 9 | J22: 44 | K22: 14 | L22: 9 | M22: =SUM(J22:L22) -> 67 | N22: 2 | P22: 6 | R22: 1 | U22: =M22/U$69 -> 0.014063812 | X22: =SUM(N22:R22) -> 9 | AI22: 0.32 | AJ22: 0.53 | AK22: =M22*AI22/(AI22+AJ22) -> 25.223529 | AL22: =M22*AJ22/(AJ22+AI22) -> 41.776471
A23: 14 | B23: Texas | C23: Primary | D23: Open | E23: Must register | F23: 42401 | G23: 42430 | I23: 36 | J23: 145 | K23: 48 | L23: 29 | M23: =SUM(J23:L23) -> 222 | N23: 11 | P23: 19 | U23: =M23/U$69 -> 0.046599496 | X23: =SUM(N23:R23) -> 30 | AI23: 0.33 | AJ23: 0.51 | AK23: =M23*AI23/(AI23+AJ23) -> 87.214286 | AL23: =M23*AJ23/(AJ23+AI23) -> 134.78571
A24: 15 | B24: Vermont | C24: Primary | D24: Open | E24: Must register | F24: same-day | G24: 42430 | I24: 1 | J24: 11 | K24: 3 | L24: 2 | M24: =SUM(J24:L24) -> 16 | N24: 1 | O24: 2 | P24: 5 | Q24: 1 | R24: 1 | U24: =M24/U$69 -> 0.0033585223 | X24: =SUM(N24:R24) -> 10 | AI24: 0.55 | AJ24: 0.32 | AK24: =M24*AI24/(AI24+AJ24) -> 10.114943 | AL24: =M24*AJ24/(AJ24+AI24) -> 5.8850575
A25: 16 | B25: Virginia | C25: Primary | D25: Open | E25: Must register | F25: 42408 | G25: 42430 | I25: 11 | J25: 62 | K25: 21 | L25: 12 | M25: =SUM(J25:L25) -> 95 | N25: 2 | O25: 2 | P25: 9 | R25: 2 | U25: =M25/U$69 -> 0.019941226 | X25: =SUM(N25:R25) -> 15 | AI25: 0.34 | AJ25: 0.53 | AK25: =M25*AI25/(AI25+AJ25) -> 37.126437 | AL25: =M25*AJ25/(AJ25+AI25) -> 57.873563
A26: 17 | B26: Kansas | C26: Caucuses | D26: Closed | E26: Must register as Democrat | F26: same-day | G26: 42434 | I26: 4 | J26: 22 | K26: 7 | L26: 4 | M26: =SUM(J26:L26) -> 33 | P26: 4 | S26: =SUM(M26:M28) -> 109 | T26: =T14+S26 -> 1130 | U26: =M26/U$69 -> 0.0069269521 | V26: =T26/U69 -> 0.23719563 | X26: =SUM(N26:R26) -> 4 | AI26: 0.45 | AJ26: 0.42 | AK26: =M26*AI26/(AI26+AJ26) -> 17.068966 | AL26: =M26*AJ26/(AJ26+AI26) -> 15.931034
A27: 18 | B27: Louisiana | C27: Primary | D27: Closed | E27: Must register as Democrat | F27: 42403 | G27: 42434 | I27: 6 | J27: 33 | K27: 11 | L27: 7 | M27: =SUM(J27:L27) -> 51 | N27: 1 | P27: 6 | U27: =M27/U$69 -> 0.01070529 | X27: =SUM(N27:R27) -> 7 | AI27: 0.26 | AJ27: 0.61 | AK27: =M27*AI27/(AI27+AJ27) -> 15.241379 | AL27: =M27*AJ27/(AJ27+AI27) -> 35.758621
A28: 19 | B28: Nebraska | C28: Caucuses | D28: Closed | E28: Must register as Democrat | F28: same-day | G28: 42434 | I28: 3 | J28: 17 | K28: 5 | L28: 3 | M28: =SUM(J28:L28) -> 25 | N28: 1 | P28: 4 | U28: =M28/U$69 -> 0.005247691 | X28: =SUM(N28:R28) -> 5 | AI28: 0.46 | AJ28: 0.41 | AK28: =M28*AI28/(AI28+AJ28) -> 13.218391 | AL28: =M28*AJ28/(AJ28+AI28) -> 11.781609
A29: 20 | B29: Maine | C29: Caucuses | D29: Closed | E29: Must register as Democrat | F29: same-day | G29: 42435 | I29: 2 | J29: 17 | K29: 5 | L29: 3 | M29: =SUM(J29:L29) -> 25 | N29: 1 | P29: 4 | S29: =M29 -> 25 | T29: =T26+S29 -> 1155 | U29: =M29/U$69 -> 0.005247691 | V29: =T29/U69 -> 0.24244332 | X29: =SUM(N29:R29) -> 5 | AI29: 0.52 | AJ29: 0.36 | AK29: =M29*AI29/(AI29+AJ29) -> 14.772727 | AL29: =M29*AJ29/(AJ29+AI29) -> 10.227273
A30: 21 | B30: Democrats abroad | C30: Primary | D30: Open | G30: 42437 | K30: 12 | L30: 1 | M30: =SUM(J30:L30) -> 13 | P30: 4 | S30: =M30 -> 13 | T30: =T29+S30 -> 1168 | U30: =M30/U$69 -> 0.0027287993 | V30: =T30/U69 -> 0.24517212 | X30: =SUM(N30:R30) -> 4
A31: 22 | B31: Michigan | C31: Primary | D31: Open | E31: Must register | F31: 42408 | G31: 42437 | I31: 14 | J31: 85 | K31: 28 | L31: 17 | M31: =SUM(J31:L31) -> 130 | N31: 4 | O31: 2 | P31: 12 | S31: =SUM(M31:M32) -> 166 | T31: =T30+S31 -> 1334 | U31: =M31/U$69 -> 0.027287993 | V31: =T31/U69 -> 0.28001679 | X31: =SUM(N31:R31) -> 18 | AI31: 0.39 | AJ31: 0.5 | AK31: =M31*AI31/(AI31+AJ31) -> 56.966292 | AL31: =M31*AJ31/(AJ31+AI31) -> 73.033708
A32: 23 | B32: Mississippi | C32: Primary | D32: Open | E32: Must register | F32: 42406 | G32: 42437 | I32: 4 | J32: 23 | K32: 8 | L32: 5 | M32: =SUM(J32:L32) -> 36 | N32: 1 | P32: 4 | U32: =M32/U$69 -> 0.0075566751 | X32: =SUM(N32:R32) -> 5 | AI32: 0.28 | AJ32: 0.54 | AK32: =M32*AI32/(AI32+AJ32) -> 12.292683 | AL32: =M32*AJ32/(AJ32+AI32) -> 23.707317
A33: 24 | B33: Florida | C33: Primary | D33: Closed | E33: Must register as Democrat | F33: 42416 | G33: 42444 | I33: 27 | J33: 140 | K33: 46 | L33: 28 | M33: =SUM(J33:L33) -> 214 | N33: 9 | O33: 1 | P33: 21 | R33: 1 | S33: =SUM(M33:M38) -> 697 | T33: =T31+S33 -> 2031 | U33: =M33/U$69 -> 0.044920235 | V33: =T33/U69 -> 0.42632242 | X33: =SUM(N33:R33) -> 32 | AI33: 0.32 | AJ33: 0.56 | AK33: =M33*AI33/(AI33+AJ33) -> 77.818182 | AL33: =M33*AJ33/(AJ33+AI33) -> 136.18182
A34: 25 | B34: Illinois | C34: Primary | D34: Closed | E34: Must register as Democrat | F34: same-day | G34: 42444 | I34: 18 | J34: 102 | K34: 34 | L34: 20 | M34: =SUM(J34:L34) -> 156 | N34: 9 | O34: 1 | P34: 15 | R34: 1 | U34: =M34/U$69 -> 0.032745592 | X34: =SUM(N34:R34) -> 26 | AI34: 0.38 | AJ34: 0.51 | AK34: =M34*AI34/(AI34+AJ34) -> 66.606742 | AL34: =M34*AJ34/(AJ34+AI34) -> 89.393258
A35: 26 | B35: Missouri | C35: Primary | D35: Open | E35: Must register | F35: 42417 | G35: 42444 | I35: 8 | J35: 47 | K35: 15 | L35: 9 | M35: =SUM(J35:L35) -> 71 | N35: 2 | O35: 1 | P35: 8 | Q35: 1 | R35: 1 | U35: =M35/U$69 -> 0.014903442 | X35: =SUM(N35:R35) -> 13 | AI35: 0.4 | AJ35: 0.47 | AK35: =M35*AI35/(AI35+AJ35) -> 32.643678 | AL35: =M35*AJ35/(AJ35+AI35) -> 38.356322
A36: 27 | B36: North Carolina | C36: Primary | D36: Semi-closed | E36: Must register as Democrat or undeclared | F36: 42419 | G36: 42444 | I36: 13 | J36: 70 | K36: 23 | L36: 14 | M36: =SUM(J36:L36) -> 107 | N36: 3 | P36: 11 | U36: =M36/U$69 -> 0.022460118 | X36: =SUM(N36:R36) -> 14 | AI36: 0.31 | AJ36: 0.53 | AK36: =M36*AI36/(AI36+AJ36) -> 39.488095 | AL36: =M36*AJ36/(AJ36+AI36) -> 67.511905
A37: 28 | B37: Northern Mariana Islands | C37: Caucuses | D37: Closed | G37: 42444 | K37: 6 | M37: =SUM(J37:L37) -> 6 | N37: 1 | P37: 4 | U37: =M37/U$69 -> 0.0012594458 | X37: =SUM(N37:R37) -> 5
A38: 29 | B38: Ohio | C38: Primary | D38: Open | E38: Must register | F38: 42416 | G38: 42444 | I38: 16 | J38: 93 | K38: 31 | L38: 19 | M38: =SUM(J38:L38) -> 143 | N38: 4 | O38: 1 | P38: 10 | R38: 1 | U38: =M38/U$69 -> 0.030016793 | X38: =SUM(N38:R38) -> 16 | AI38: 0.41 | AJ38: 0.48 | AK38: =M38*AI38/(AI38+AJ38) -> 65.876404 | AL38: =M38*AJ38/(AJ38+AI38) -> 77.123596
A39: 30 | B39: Arizona | C39: Primary | D39: Closed | E39: Must register as Democrat | F39: 42422 | G39: 42451 | I39: 9 | J39: 50 | K39: 16 | L39: 9 | M39: =SUM(J39:L39) -> 75 | N39: 4 | P39: 6 | S39: =SUM(M39:M41) -> 131 | T39: =T33+S39 -> 2162 | U39: =M39/U$69 -> 0.015743073 | V39: =T39/U69 -> 0.45382032 | X39: =SUM(N39:R39) -> 10 | AI39: 0.39 | AJ39: 0.51 | AK39: =M39*AI39/(AI39+AJ39) -> 32.5 | AL39: =M39*AJ39/(AJ39+AI39) -> 42.5
A40: 31 | B40: Idaho | C40: Caucuses | D40: Open | E40: Must register | F40: same-day | G40: 42451 | I40: 2 | J40: 15 | K40: 5 | L40: 3 | M40: =SUM(J40:L40) -> 23 | P40: 4 | U40: =M40/U$69 -> 0.0048278757 | X40: =SUM(N40:R40) -> 4 | AI40: 0.51 | AJ40: 0.37 | AK40: =M40*AI40/(AI40+AJ40) -> 13.329545 | AL40: =M40*AJ40/(AJ40+AI40) -> 9.6704545
A41: 32 | B41: Utah | C41: Caucuses | D41: Semi-open | E41: Must register as other than Republican | F41: 42422 | G41: 42451 | I41: 4 | J41: 22 | K41: 7 | L41: 4 | M41: =SUM(J41:L41) -> 33 | P41: 4 | U41: =M41/U$69 -> 0.0069269521 | X41: =SUM(N41:R41) -> 4 | AI41: 0.54 | AJ41: 0.39 | AK41: =M41*AI41/(AI41+AJ41) -> 19.16129 | AL41: =M41*AJ41/(AJ41+AI41) -> 13.83871
A42: 33 | B42: Alaska | C42: Caucuses | D42: Closed | E42: Must register as Democrat | F42: same-day | G42: 42455 | I42: 1 | J42: 10 | K42: 4 | L42: 2 | M42: =SUM(J42:L42) -> 16 | P42: 4 | S42: =SUM(M42:M44) -> 142 | T42: =T39+S42 -> 2304 | U42: =M42/U$69 -> 0.0033585223 | V42: =T42/U69 -> 0.4836272 | X42: =SUM(N42:R42) -> 4 | AI42: 0.46 | AJ42: 0.41 | AK42: =M42*AI42/(AI42+AJ42) -> 8.4597701 | AL42: =M42*AJ42/(AJ42+AI42) -> 7.5402299
A43: 34 | B43: Hawaii | C43: Caucuses | D43: Semi-closed | E43: Must register as Democrat | F43: same-day | G43: 42455 | I43: 2 | J43: 16 | K43: 6 | L43: 3 | M43: =SUM(J43:L43) -> 25 | N43: 2 | O43: 1 | P43: 5 | Q43: 1 | U43: =M43/U$69 -> 0.005247691 | X43: =SUM(N43:R43) -> 9 | AI43: 0.4 | AJ43: 0.48 | AK43: =M43*AI43/(AI43+AJ43) -> 11.363636 | AL43: =M43*AJ43/(AJ43+AI43) -> 13.636364
A44: 35 | B44: Washington | C44: Caucuses | D44: Open | E44: Must register | F44: 42455 | G44: 42455 | I44: 10 | J44: 67 | K44: 22 | L44: 12 | M44: =SUM(J44:L44) -> 101 | N44: 6 | O44: 2 | P44: 8 | Q44: 1 | U44: =M44/U$69 -> 0.021200672 | X44: =SUM(N44:R44) -> 17 | AI44: 0.5 | AJ44: 0.41 | AK44: =M44*AI44/(AI44+AJ44) -> 55.494505 | AL44: =M44*AJ44/(AJ44+AI44) -> 45.505495
A45: 37 | B45: Wisconsin | C45: Primary | D45: Open | E45: Must register | F45: same-day | G45: 42465 | I45: 8 | J45: 57 | K45: 19 | L45: 10 | M45: =SUM(J45:L45) -> 86 | N45: 3 | O45: 1 | P45: 6 | S45: =M45 -> 86 | T45: =T42+S45 -> 2390 | U45: =M45/U$69 -> 0.018052057 | V45: =T45/U$69 -> 0.50167926 | X45: =SUM(N45:R45) -> 10 | AI45: 0.44 | AJ45: 0.45 | AK45: =M45*AI45/(AI45+AJ45) -> 42.516854 | AL45: =M45*AJ45/(AJ45+AI45) -> 43.483146
A46: 38 | B46: Wyoming | C46: Caucuses | D46: Closed | E46: Must register as Democrat | F46: same-day | G46: 42469 | I46: 1 | J46: 8 | K46: 4 | L46: 2 | M46: =SUM(J46:L46) -> 14 | P46: 4 | S46: =M46 -> 14 | T46: =T45+S46 -> 2404 | U46: =M46/U$69 -> 0.002938707 | V46: =T46/U$69 -> 0.50461797 | X46: =SUM(N46:R46) -> 4 | AI46: 0.5 | AJ46: 0.38 | AK46: =M46*AI46/(AI46+AJ46) -> 7.9545455 | AL46: =M46*AJ46/(AJ46+AI46) -> 6.0454545
A47: 39 | B47: New York | C47: Primary | D47: Closed | E47: Must register as Democrat | F47: 42454 | G47: 42479 | I47: 27 | J47: 163 | K47: 54 | L47: 30 | M47: =SUM(J47:L47) -> 247 | N47: 17 | O47: 2 | P47: 22 | Q47: 1 | R47: 2 | S47: =M47 -> 247 | T47: =T46+S47 -> 2651 | U47: =M47/U$69 -> 0.051847187 | V47: =T47/U$69 -> 0.55646516 | X47: =SUM(N47:R47) -> 44 | AI47: 0.31 | AJ47: 0.6 | AK47: =M47*AI47/(AI47+AJ47) -> 84.142857 | AL47: =M47*AJ47/(AJ47+AI47) -> 162.85714
A48: 40 | B48: Connecticut | C48: Primary | D48: Closed | E48: Must register as Democrat | F48: same-day | G48: 42486 | I48: 5 | J48: 36 | K48: 12 | L48: 7 | M48: =SUM(J48:L48) -> 55 | N48: 5 | O48: 2 | P48: 7 | R48: 1 | S48: =SUM(M48:M52) -> 384 | T48: =T47+S48 -> 3035 | U48: =M48/U$69 -> 0.01154492 | V48: =T48/U69 -> 0.63706969 | X48: =SUM(N48:R48) -> 15 | AI48: 0.4 | AJ48: 0.51 | AK48: =M48*AI48/(AI48+AJ48) -> 24.175824 | AL48: =M48*AJ48/(AJ48+AI48) -> 30.824176
A49: 41 | B49: Delaware | C49: Primary | D49: Closed | E49: Must register as Democrat | F49: 42426 | G49: 42486 | I49: 1 | J49: 14 | K49: 5 | L49: 2 | M49: =SUM(J49:L49) -> 21 | N49: 1 | O49: 2 | P49: 5 | Q49: 1 | R49: 1 | U49: =M49/U$69 -> 0.0044080605 | X49: =SUM(N49:R49) -> 10 | AI49: 0.33 | AJ49: 0.55 | AK49: =M49*AI49/(AI49+AJ49) -> 7.875 | AL49: =M49*AJ49/(AJ49+AI49) -> 13.125
A50: 42 | B50: Maryland | C50: Primary | D50: Closed | E50: Must register as Democrat | F50: 42465 | G50: 42486 | I50: 8 | J50: 64 | K50: 21 | L50: 10 | M50: =SUM(J50:L50) -> 95 | N50: 7 | O50: 2 | P50: 13 | R50: 1 | U50: =M50/U$69 -> 0.019941226 | X50: =SUM(N50:R50) -> 23 | AI50: 0.33 | AJ50: 0.57 | AK50: =M50*AI50/(AI50+AJ50) -> 34.833333 | AL50: =M50*AJ50/(AJ50+AI50) -> 60.166667
A51: 43 | B51: Pennsylvania | C51: Primary | D51: Closed | E51: Must register as Democrat | F51: 42457 | G51: 42486 | I51: 18 | J51: 127 | K51: 42 | L51: 20 | M51: =SUM(J51:L51) -> 189 | N51: 5 | O51: 1 | P51: 13 | Q51: 1 | R51: 1 | U51: =M51/U$69 -> 0.039672544 | X51: =SUM(N51:R51) -> 21 | AI51: 0.39 | AJ51: 0.51 | AK51: =M51*AI51/(AI51+AJ51) -> 81.9 | AL51: =M51*AJ51/(AJ51+AI51) -> 107.1
A52: 44 | B52: Rhode Island | C52: Primary | D52: Semi-closed | E52: Must register as Democrat or undeclared | F52: 42456 | G52: 42486 | I52: 2 | J52: 15 | K52: 6 | L52: 3 | M52: =SUM(J52:L52) -> 24 | N52: 2 | O52: 2 | P52: 4 | Q52: 1 | U52: =M52/U$69 -> 0.0050377834 | X52: =SUM(N52:R52) -> 9 | AI52: 0.42 | AJ52: 0.47 | AK52: =M52*AI52/(AI52+AJ52) -> 11.325843 | AL52: =M52*AJ52/(AJ52+AI52) -> 12.674157
A53: 45 | B53: Indiana | C53: Primary | D53: Open | E53: Must register | F53: 42396 | G53: 42493 | I53: 9 | J53: 56 | K53: 18 | L53: 9 | M53: =SUM(J53:L53) -> 83 | N53: 2 | O53: 1 | P53: 6 | S53: =M53 -> 83 | T53: =T48+S53 -> 3118 | U53: =M53/U$69 -> 0.017422334 | V53: =T53/U$69 -> 0.65449202 | X53: =SUM(N53:R53) -> 9 | AI53: 0.41 | AJ53: 0.47 | AK53: =M53*AI53/(AI53+AJ53) -> 38.670455 | AL53: =M53*AJ53/(AJ53+AI53) -> 44.329545
A54: 46 | B54: Guam | C54: Caucuses | D54: Closed | G54: 42497 | K54: 7 | M54: =SUM(J54:L54) -> 7 | N54: 1 | P54: 4 | S54: =M54 -> 7 | T54: =T53+S54 -> 3125 | U54: =M54/U$69 -> 0.0014693535 | V54: =T54/U$69 -> 0.65596138 | X54: =SUM(N54:R54) -> 5
A55: 47 | B55: West Virginia | C55: Primary | D55: Semi-closed | E55: Must register as Democrat or undeclared | F55: 42479 | G55: 42500 | I55: 3 | J55: 20 | K55: 6 | L55: 3 | M55: =SUM(J55:L55) -> 29 | O55: 1 | P55: 6 | Q55: 1 | S55: =M55 -> 29 | T55: =T54+S55 -> 3154 | U55: =M55/U$69 -> 0.0060873216 | V55: =T55/U$69 -> 0.6620487 | X55: =SUM(N55:R55) -> 8 | AI55: 0.42 | AJ55: 0.44 | AK55: =M55*AI55/(AI55+AJ55) -> 14.162791 | AL55: =M55*AJ55/(AJ55+AI55) -> 14.837209
A56: 48 | B56: Kentucky | C56: Primary | D56: Closed | E56: Must register as Democrat | F56: 42478 | G56: 42507 | I56: 6 | J56: 37 | K56: 12 | L56: 6 | M56: =SUM(J56:L56) -> 55 | N56: 1 | P56: 4 | Q56: 1 | S56: =SUM(M56:M57) -> 116 | T56: =T55+S56 -> 3270 | U56: =M56/U$69 -> 0.01154492 | V56: =T56/U69 -> 0.68639798 | X56: =SUM(N56:R56) -> 6 | AI56: 0.36 | AJ56: 0.49 | AK56: =M56*AI56/(AI56+AJ56) -> 23.294118 | AL56: =M56*AJ56/(AJ56+AI56) -> 31.705882
A57: 49 | B57: Oregon | C57: Primary | D57: Closed | E57: Must register as Democrat | F57: 42486 | G57: 42507 | I57: 5 | J57: 41 | K57: 13 | L57: 7 | M57: =SUM(J57:L57) -> 61 | N57: 3 | O57: 2 | P57: 6 | Q57: 1 | U57: =M57/U$69 -> 0.012804366 | X57: =SUM(N57:R57) -> 12 | AI57: 0.47 | AJ57: 0.44 | AK57: =M57*AI57/(AI57+AJ57) -> 31.505495 | AL57: =M57*AJ57/(AJ57+AI57) -> 29.494505
A58: 50 | B58: Virgin Islands | C58: Caucuses | D58: Closed | G58: 42525 | K58: 7 | M58: =SUM(J58:L58) -> 7 | N58: 1 | P58: 4 | S58: =M58 -> 7 | T58: =T56+S58 -> 3277 | U58: =M58/U$69 -> 0.0014693535 | V58: =T58/U$69 -> 0.68786734 | X58: =SUM(N58:R58) -> 5
A59: 51 | B59: Puerto Rico | C59: Primary | D59: Open | E59: Must register | F59: 42476 | G59: 42526 | J59: 40 | K59: 13 | L59: 7 | M59: =SUM(J59:L59) -> 60 | N59: 1 | P59: 5 | Q59: 1 | S59: =M59 -> 60 | T59: =T58+S59 -> 3337 | U59: =M59/U$69 -> 0.012594458 | V59: =T59/U$69 -> 0.7004618 | X59: =SUM(N59:R59) -> 7
A60: 52 | B60: California | C60: Primary | D60: Semi-closed | E60: Must register as Democrat or undeclared | F60: 42513 | G60: 42528 | I60: 53 | J60: 317 | K60: 105 | L60: 53 | M60: =SUM(J60:L60) -> 475 | N60: 36 | O60: 2 | P60: 32 | Q60: 1 | S60: =SUM(M60:M65) -> 694 | T60: =T59+S60 -> 4031 | U60: =M60/U$69 -> 0.099706129 | V60: =T60/U69 -> 0.8461377 | X60: =SUM(N60:R60) -> 71 | AI60: 0.41 | AJ60: 0.5 | AK60: =M60*AI60/(AI60+AJ60) -> 214.01099 | AL60: =M60*AJ60/(AJ60+AI60) -> 260.98901
A61: 53 | B61: Montana | C61: Primary | D61: Open | E61: Must register | F61: same-day | G61: 42528 | I61: 1 | J61: 15 | K61: 4 | L61: 2 | M61: =SUM(J61:L61) -> 21 | O61: 1 | P61: 5 | U61: =M61/U$69 -> 0.0044080605 | X61: =SUM(N61:R61) -> 6 | AI61: 0.47 | AJ61: 0.41 | AK61: =M61*AI61/(AI61+AJ61) -> 11.215909 | AL61: =M61*AJ61/(AJ61+AI61) -> 9.7840909
A62: 54 | B62: New Jersey | C62: Primary | D62: Closed | E62: Must register as Democrat | F62: 42507 | G62: 42528 | I62: 12 | J62: 84 | K62: 28 | L62: 14 | M62: =SUM(J62:L62) -> 126 | N62: 6 | O62: 2 | P62: 8 | U62: =M62/U$69 -> 0.026448363 | X62: =SUM(N62:R62) -> 16 | AI62: 0.36 | AJ62: 0.53 | AK62: =M62*AI62/(AI62+AJ62) -> 50.966292 | AL62: =M62*AJ62/(AJ62+AI62) -> 75.033708
A63: 55 | B63: New Mexico | C63: Primary | D63: Closed | E63: Must register as Democrat | F63: 42500 | G63: 42528 | I63: 3 | J63: 23 | K63: 7 | L63: 4 | M63: =SUM(J63:L63) -> 34 | N63: 2 | O63: 2 | P63: 4 | R63: 1 | U63: =M63/U$69 -> 0.0071368598 | X63: =SUM(N63:R63) -> 9 | AI63: 0.4 | AJ63: 0.5 | AK63: =M63*AI63/(AI63+AJ63) -> 15.111111 | AL63: =M63*AJ63/(AJ63+AI63) -> 18.888889
A64: 56 | B64: North Dakota | C64: Primary | D64: Open | E64: No registration required | G64: 42528 | I64: 1 | J64: 12 | K64: 4 | L64: 2 | M64: =SUM(J64:L64) -> 18 | O64: 1 | P64: 4 | X64: =SUM(N64:R64) -> 5 | AI64: 0.46 | AJ64: 0.41 | AK64: =M64*AI64/(AI64+AJ64) -> 9.5172414 | AL64: =M64*AJ64/(AJ64+AI64) -> 8.4827586
A65: 57 | B65: South Dakota | C65: Primary | D65: Semi-open | E65: Must register as other than Republican | F65: 42513 | G65: 42528 | I65: 1 | J65: 14 | K65: 4 | L65: 2 | M65: =SUM(J65:L65) -> 20 | P65: 4 | R65: 1 | U65: =M65/U$69 -> 0.0041981528 | X65: =SUM(N65:R65) -> 5 | AI65: 0.41 | AJ65: 0.46 | AK65: =M65*AI65/(AI65+AJ65) -> 9.4252874 | AL65: =M65*AJ65/(AJ65+AI65) -> 10.574713
A66: 58 | B66: Washington, D.C. | C66: Primary | D66: Closed | E66: Must register as Democrat | F66: 42513 | G66: 42535 | J66: 13 | K66: 5 | L66: 2 | M66: =SUM(J66:L66) -> 20 | N66: 1 | O66: 2 | P66: 22 | Q66: 1 | S66: =M66 -> 20 | T66: =T60+S66 -> 4051 | U66: =M66/U$69 -> 0.0041981528 | V66: =T66/U$69 -> 0.85033585 | X66: =SUM(N66:R66) -> 26 | AI66: 0.32 | AJ66: 0.57 | AK66: =M66*AI66/(AI66+AJ66) -> 7.1910112 | AL66: =M66*AJ66/(AJ66+AI66) -> 12.808989
A67: 59 | B67: Other unpledged 'superdelegates' | P67: 3 | U67: =SUM(N67:R67)/U69 -> 0.00062972292 | X67: =SUM(N67:R67) -> 3 | Y67: 331 | AB67: 11 | AE67: 3
B69: Total | I69: =SUM(I10:I67) -> 435 | J69: =SUM(J10:J66) -> 2650 | K69: =SUM(K10:K66) -> 910 | L69: =SUM(L10:L66) -> 491 | M69: =SUM(M10:M66) -> 4051 | N69: =SUM(N10:N67) -> 184 | O69: =SUM(O10:O67) -> 45 | P69: =SUM(P10:P67) -> 446 | Q69: =SUM(Q10:Q67) -> 16 | R69: =SUM(R10:R67) -> 22 | U69: =SUM(J69:L69)+SUM(N69:R69) -> 4764 | X69: =SUM(N69:R69) -> 713 | Y69: =SUM(Y10:Y67) -> 331 | AA69: =SUM(AA10:AA65) -> 0 | AB69: =SUM(AB10:AB67) -> 11 | AD69: =SUM(AD10:AD65) -> 0 | AE69: =SUM(AE10:AE67) -> 3 | AG69: =SUM(AG10:AG65) -> 0 | AK69: =SUM(AK10:AK67) -> 1695.9781 | AL69: =SUM(AL10:AL67) -> 2256.0219
B74: Source: based on DNC publication at https://ballotpedia.org/wiki/images/4/47/Allocation_Chart_w_Bonuses_9.25.15.pdf, dated 25 Sept 2015, accessed on 17 January 2016 | N74: Note: the numbers shown for congressmen and senators is not identical to actual congressional numbers because some are attending in other capacities

Sheet State influences
B1: Relative importance of states in pledged delegate counts
C3: Republican | D3: weighting | E3: Democratic | F3: weighting
B4: California | C4: 0.060944825 | D4: 8 | E4: 0.099706129 | F4: 11
B5: New York | C5: 0.033177065 | D5: 5 | E5: 0.051847187 | F5: 7
B6: Texas | C6: 0.054814281 | D6: 7 | E6: 0.046599496 | F6: 6
B7: Florida | C7: 0.035701406 | D7: 5 | E7: 0.044920235 | F7: 6
B8: Pennsylvania | C8: 0.0050486837 | D8: 1 | E8: 0.039672544 | F8: 6
B9: Illinois | C9: 0.023800938 | D9: 4 | E9: 0.032745592 | F9: 5
B10: Ohio | C10: 0.022719077 | D10: 4 | E10: 0.030016793 | F10: 5
B11: Michigan | C11: 0.020194735 | D11: 4 | E11: 0.027287993 | F11: 4
B12: New Jersey | C12: 0.018391634 | D12: 3 | E12: 0.026448363 | F12: 4
B13: North Carolina | C13: 0.025964659 | D13: 4 | E13: 0.022460118 | F13: 4
B14: Georgia | C14: 0.02740714 | D14: 4 | E14: 0.021410579 | F14: 4
B15: Washington | C15: 0.014785431 | D15: 3 | E15: 0.021200672 | F15: 4
... B39: Arkansas | C39: 0.01334295 | D39: 2 | E39: 0.0067170445 | F39: 1
B40: West Virginia | C40: 0 | E40: 0.0060873216 | F40: 1
B41: Nebraska | C41: 0.011900469 | D41: 2 | E41: 0.005247691 | F41: 1
B42: Maine | C42: 0.0072124053 | D42: 1 | E42: 0.005247691 | F42: 1
B43: Hawaii | C43: 0.0057699243 | D43: 1 | E43: 0.005247691 | F43: 1
B44: New Hampshire | C44: 0.0072124053 | D44: 1 | E44: 0.0050377834 | F44: 1
B45: Rhode Island | C45: 0.0057699243 | D45: 1 | E45: 0.0050377834 | F45: 1
B46: Idaho | C46: 0.010457988 | D46: 2 | E46: 0.0048278757 | F46: 1
B47: Montana | C47: 0.0086548864 | D47: 1 | E47: 0.0044080605
B48: Delaware | C48: 0.0057699243 | D48: 1 | E48: 0.0044080605
B49: South Dakota | C49: 0.0093761269 | D49: 1 | E49: 0.0041981528
B50: Washington, D.C. | C50: 0.0057699243 | D50: 1 | E50: 0.0041981528
B51: North Dakota | C51: 0.0090155067 | D51: 1 | E51: 0.0037783375
B52: Alaska | C52: 0.0090155067 | D52: 1 | E52: 0.0033585223
B53: Vermont | C53: 0.0057699243 | D53: 1 | E53: 0.0033585223
B54: Wyoming | C54: 0.0093761269 | D54: 1 | E54: 0.002938707
B56: Puerto Rico | C56: 0.0072124053 | D56: 1 | E56: 0.012594458 | F56: 2
B57: American Samoa | C57: 0.0021637216 | E57: 0.0012594458
B58: Guam | C58: 0.0021637216 | E58: 0.0014693535
B59: Northern Mariana Islands | C59: 0.0021637216 | E59: 0.0012594458
B60: Virgin Islands | C60: 0.0021637216 | E60: 0.0014693535
B61: Democrats abroad | E61: 0.0027287993
B63: 0 | D63: 1 | F63: 8
B64: 1 | D64: =COUNTIF(D$4:D$54,B64) -> 16 | F64: =COUNTIF(F$4:F$54,B64) -> 15
B65: 2 | D65: =COUNTIF(D$4:D$54,B65) -> 13 | F65: =COUNTIF(F$4:F$54,B65) -> 8
B66: 3 | D66: =COUNTIF(D$4:D$54,B66) -> 10 | F66: =COUNTIF(F$4:F$54,B66) -> 6
B67: 4 | D67: =COUNTIF(D$4:D$54,B67) -> 7 | F67: =COUNTIF(F$4:F$54,B67) -> 7
B68: 5 | D68: =COUNTIF(D$4:D$54,B68) -> 2 | F68: =COUNTIF(F$4:F$54,B68) -> 2
B69: 6 | F69: =COUNTIF(F$4:F$54,B69) -> 3
B70: 7 | D70: =COUNTIF(D$4:D$54,B70) -> 1 | F70: =COUNTIF(F$4:F$54,B70) -> 1
B71: 8 | D71: =COUNTIF(D$4:D$54,B71) -> 1
B72: 9 | F72: =COUNTIF(F$4:F$54,B72) -> 0
B73: 11 | F73: =COUNTIF(F$4:F$54,B73) -> 1

Sheet Disproportionality
B1: US Party Conventions
B2: The extent to which the size of state delegations is out of proportion to the numbers of voters in each state
C5: Voting population | F5: Democratic Party | L5: Republican Party | R5: Election marginality
R6: vote shares 2012
C7: Vote-eligible (2014) population | D7: proportion | F7: pledged | G7: unpledged | H7: delegates | I7: proportion | J7: variation | L7: pledged | M7: unpledged | N7: delegates | O7: proportion | P7: variation | R7: Democratic | S7: Republican | T7: diff.
B9: Utah | C9: 1911922 | D9: =C9/C$61 -> 0.0086253111 | F9: 33 | G9: 4 | H9: =F9+G9 -> 37 | I9: =H9/H$61 -> 0.0079879102 | J9: =I9-D9 -> -0.00063740093 | L9: 40 | M9: 6 | N9: =M9+L9 -> 46 | O9: =N9/N$61 -> 0.016949153 | P9: =O9-D9 -> 0.0083238414 | R9: 0.24931224 | S9: 0.72985515 | T9: =R9-S9 -> -0.4805429 | V9: =J9+P9 -> 0.0076864405
B10: Wyoming | C10: 435103 | D10: =C10/C$61 -> 0.0019628932 | F10: 14 | G10: 4 | H10: =F10+G10 -> 18 | I10: =H10/H$61 -> 0.0038860104 | J10: =I10-D10 -> 0.0019231171 | L10: 26 | M10: 6 | N10: =M10+L10 -> 32 | O10: =N10/N$61 -> 0.011790715 | P10: =O10-D10 -> 0.0098278216 | R10: 0.27983807 | S10: 0.69273959 | T10: =R10-S10 -> -0.41290152 | V10: =J10+P10 -> 0.011750939
B11: Oklahoma | C11: 2769828 | D11: =C11/C$61 -> 0.012495608 | F11: 38 | G11: 4 | H11: =F11+G11 -> 42 | I11: =H11/H$61 -> 0.0090673575 | J11: =I11-D11 -> -0.0034282507 | L11: 40 | M11: 10 | N11: =M11+L11 -> 50 | O11: =N11/N$61 -> 0.018422992 | P11: =O11-D11 -> 0.0059273837 | R11: 0.33231283 | S11: 0.66768717 | T11: =R11-S11 -> -0.33537435 | V11: =J11+P11 -> 0.002499133
B12: Idaho | C12: 1124381 | D12: =C12/C$61 -> 0.0050724538 | F12: 23 | G12: 4 | H12: =F12+G12 -> 27 | I12: =H12/H$61 -> 0.0058290155 | J12: =I12-D12 -> 0.00075656178 | L12: 29 | M12: 7 | N12: =M12+L12 -> 36 | O12: =N12/N$61 -> 0.013264554 | P12: =O12-D12 -> 0.0081921004 | R12: 0.32719005 | S12: 0.64765344 | T12: =R12-S12 -> -0.32046339 | V12: =J12+P12 -> 0.0089486622
B13: West Virginia | C13: 1448656 | D13: =C13/C$61 -> 0.0065353653 | F13: 29 | G13: 8 | H13: =F13+G13 -> 37 | I13: =H13/H$61 -> 0.0079879102 | J13: =I13-D13 -> 0.0014525449 | L13: 0 | M13: 38 | N13: =M13+L13 -> 38 | O13: =N13/N$61 -> 0.014001474 | P13: =O13-D13 -> 0.0074661085 | R13: 0.35506308 | S13: 0.62330592 | T13: =R13-S13 -> -0.26824284 | V13: =J13+P13 -> 0.0089186534
B14: Arkansas | C14: 2124019 | D14: =C14/C$61 -> 0.0095821507 | F14: 32 | G14: 5 | H14: =F14+G14 -> 37 | I14: =H14/H$61 -> 0.0079879102 | J14: =I14-D14 -> -0.0015942405 | L14: 37 | M14: 9 | N14: =M14+L14 -> 46 | O14: =N14/N$61 -> 0.016949153 | P14: =O14-D14 -> 0.0073670019 | R14: 0.36934373 | S14: 0.60511775 | T14: =R14-S14 -> -0.23577402 | V14: =J14+P14 -> 0.0057727614
B15: Nebraska | C15: 1330551 | D15: =C15/C$61 -> 0.0060025547 | F15: 25 | G15: 5 | H15: =F15+G15 -> 30 | I15: =H15/H$61 -> 0.0064766839 | J15: =I15-D15 -> 0.00047412926 | L15: 33 | M15: 7 | N15: =M15+L15 -> 40 | O15: =N15/N$61 -> 0.014738394 | P15: =O15-D15 -> 0.0087358388 | R15: 0.37793808 | S15: 0.6051265 | T15: =R15-S15 -> -0.22718842 | V15: =J15+P15 -> 0.0092099681
B16: Kentucky | C16: 3260695 | D16: =C16/C$61 -> 0.014710071 | F16: 55 | G16: 6 | H16: =F16+G16 -> 61 | I16: =H16/H$61 -> 0.013169257 | J16: =I16-D16 -> -0.0015408139 | L16: 42 | M16: 10 | N16: =M16+L16 -> 52 | O16: =N16/N$61 -> 0.019159912 | P16: =O16-D16 -> 0.0044498403 | R16: 0.37809673 | S16: 0.60505661 | T16: =R16-S16 -> -0.22695989 | V16: =J16+P16 -> 0.0029090264
B17: Alabama | C17: 3586835 | D17: =C17/C$61 -> 0.016181396 | F17: 53 | G17: 7 | H17: =F17+G17 -> 60 | I17: =H17/H$61 -> 0.012953368 | J17: =I17-D17 -> -0.0032280286 | L17: 47 | M17: 11 | N17: =M17+L17 -> 58 | O17: =N17/N$61 -> 0.021370671 | P17: =O17-D17 -> 0.0051892742 | R17: 0.38437564 | S17: 0.60660319 | T17: =R17-S17 -> -0.22222755 | V17: =J17+P17 -> 0.0019612456
B18: Kansas | C18: 2043822 | D18: =C18/C$61 -> 0.0092203556 | F18: 33 | G18: 4 | H18: =F18+G18 -> 37 | I18: =H18/H$61 -> 0.0079879102 | J18: =I18-D18 -> -0.0012324454 | L18: 40 | M18: 6 | N18: =M18+L18 -> 46 | O18: =N18/N$61 -> 0.016949153 | P18: =O18-D18 -> 0.007728797 | R18: 0.37827206 | S18: 0.59997578 | T18: =R18-S18 -> -0.22170372 | V18: =J18+P18 -> 0.0064963516
B19: Tennessee | C19: 4810559 | D19: =C19/C$61 -> 0.021702019 | F19: 67 | G19: 9 | H19: =F19+G19 -> 76 | I19: =H19/H$61 -> 0.016407599 | J19: =I19-D19 -> -0.0052944199 | L19: 55 | M19: 12 | N19: =M19+L19 -> 67 | O19: =N19/N$61 -> 0.024686809 | P19: =O19-D19 -> 0.0029847899 | R19: 0.39084272 | S19: 0.59591475 | T19: =R19-S19 -> -0.20507203 | V19: =J19+P19 -> -0.0023096301
B20: North Dakota | C20: 567163 | D20: =C20/C$61 -> 0.0025586595 | F20: 18 | G20: 5 | H20: =F20+G20 -> 23 | I20: =H20/H$61 -> 0.0049654577 | J20: =I20-D20 -> 0.0024067982 | L20: 25 | M20: 5 | N20: =M20+L20 -> 30 | O20: =N20/N$61 -> 0.011053795 | P20: =O20-D20 -> 0.0084951357 | R20: 0.38924412 | S20: 0.58652701 | T20: =R20-S20 -> -0.19728289 | V20: =J20+P20 -> 0.010901934
... B59: District of Columbia | C59: 474866 | D59: =C59/C$61 -> 0.0021422772 | F59: 20 | G59: 26 | H59: =F59+G59 -> 46 | I59: =H59/H$61 -> 0.0099309154 | J59: =I59-D59 -> 0.0077886381 | L59: 16 | M59: 3 | N59: =M59+L59 -> 19 | O59: =N59/N$61 -> 0.0070007369 | P59: =O59-D59 -> 0.0048584597 | R59: 0.91363808 | S59: 0.071243651 | T59: =R59-S59 -> 0.84239443 | V59: =J59+P59 -> 0.012647098
B61: Total in states + DC | C61: =SUM(C4:C58) -> 221664120 | H61: =SUM(H4:H59) -> 4632 | N61: =SUM(N4:N59) -> 2714
B63: American Samoa | F63: 6 | G63: 4 | H63: =F63+G63 -> 10 | L63: 6 | M63: 3 | N63: =M63+L63 -> 9
B64: Guam | F64: 7 | G64: 5 | H64: =F64+G64 -> 12 | L64: 6 | M64: 3 | N64: =M64+L64 -> 9
B65: Northern Mariana Islands | F65: 6 | G65: 5 | H65: =F65+G65 -> 11 | L65: 6 | M65: 3 | N65: =M65+L65 -> 9
B66: Puerto Rico | F66: 60 | G66: 7 | H66: =F66+G66 -> 67 | L66: 20 | M66: 3 | N66: =M66+L66 -> 23
B67: Virgin Islands | F67: 7 | G67: 5 | H67: =F67+G67 -> 12 | L67: 6 | M67: 3 | N67: =M67+L67 -> 9
B68: Demopcrats abroad | F68: 13 | G68: 4 | H68: =F68+G68 -> 17
B69: Others | G69: 3 | H69: =F69+G69 -> 3
B71: Convention total | H71: =SUM(H61:H69) -> 4764 | N71: =SUM(N61:N69) -> 2773

Sheet Historical results
A2: United States Presidential Primaries 1968-2012
A3: Total votes cast for candidates
E5: primary votes | F5: delegates | G5: states won | H5: primary votes | I5: states won
B6: 1968
C7: Democratic Party
D8: (Only held in 14 states)
D9: Eugene McCarthy | E9: 2914933 | G9: 6
D10: Robert Kennedy - assassinated | E10: 2305148 | G10: 4
D11: Stephen Young | E11: 549140 | G11: 1
D12: Lyndon Johnson - sitting President | E12: 383590 | G12: 1
D13: George Smathers | E13: 236242 | G13: 1
D14: Hubert Humphrey - sitting Vice-President | E14: 166463 | G14: 0
C15: Republican Party
D16: (Only held in 12 states)
D17: Richard Nixon | H17: 1679443 | I17: 9
D18: Ronald Reagan | H18: 1696632 | I18: 1
D19: Jim Rhodes | H19: 614492 | I19: 1
B21: 1972
C22: Democratic Party
D23: (Only held in 26 states)
D24: George McGovern | E24: 4053451 | F24: 1729 | G24: 11
D25: Hubery Humphrey | E25: 4121372 | F25: 67 | G25: 4
D26: George Wallace | E26: 3755424 | F26: 382 | G26: 6
D27: Edmund Muskie | E27: 1840217 | F27: 25 | G27: 4
D28: Henry Jackson | E28: 505198 | F28: 525 | G28: 0
D29: Shirley Chisolm | E29: 430703 | F29: 152 | G29: 1
C30: Republican Party
D31: Richard Nixon - sitting President | H31: 5378704 | I31: 50
D32: John Ashbrook | H32: 317048 | I32: 0
D33: Pete McCloskey | H33: 132731 | I33: 0
B35: 1976
C36: Democratic Party
D37: Jimmy Carter | E37: 6971770 | F37: 2239 | G37: 29
D38: Jerry Brown | E38: 2449374 | F38: 301 | G38: 3
D39: George Wallace | E39: 2236186 | F39: 57 | G39: 3
D40: Mo Udall | E40: 1611754 | F40: 330 | G40: 3
D41: Henry Jackson | E41: 1134375 | F41: 10 | G41: 4
D42: Frank Church | E42: 830818 | F42: 19 | G42: 5
C43: Republican Party
D44: Gerald Ford - sitting President | H44: 5529899 | I44: 27
D45: Ronald Reagan | H45: 4760222 | I45: 23
B47: 1980
C48: Democratic Party
D49: Jimmy Carter - sitting President | E49: 10043016 | G49: 37
D50: Ted Kennedy | E50: 7381693 | G50: 11
C51: Republican Party
D52: Ronald Reagan | H52: 7709793 | I52: 44
D53: George Bush | H53: 3070033 | I53: 6
D54: John Anderson | H54: 1572174 | I54: 0
B56: 1984
C57: Democratic Party
D58: Walter Mondale | E58: 6952912 | F58: 1606 | G58: 19
D59: Gary Hart | E59: 6504842 | F59: 1164 | G59: 26
D60: Jesse Jackson | E60: 3282431 | F60: 358 | G60: 2
C61: Republican Party
D62: Ronald Reagan - sitting President | H62: 6484987 | I62: 50
B64: 1988
C65: Democratic Party
D66: Michael Dukakis | E66: 10024101 | F66: 1792 | G66: 30
D67: Jesse Jackson | E67: 6941816 | F67: 1023 | G67: 9
D68: Al Gore | E68: 3190992 | F68: 374 | G68: 7
D69: Dick Gephardt | E69: 1452331 | F69: 137 | G69: 3
D70: Paul Simon | E70: 1107692 | F70: 161 | G70: 1
C71: Republican Party
D72: George Bush - sitting Vice-President | H72: 8253512 | I72: 41
D73: Bob Dole | H73: 2333375 | I73: 5
D74: Pat Robertson | H74: 1097446 | I74: 4
B76: 1992
C77: Democratic Party
D78: Bill Clinton | E78: 10482411 | F78: 3372 | G78: 35
D79: Jerry Brown | E79: 4071232 | F79: 596 | G79: 6
D80: Paul Tsongas | E80: 3656010 | F80: 289 | G80: 7
D81: Bob Kerrey | E81: 318457 | F81: - | G81: 1
D82: Tom Harkin | E82: 280304 | F82: - | G82: 3
C83: Republican Party
D84: George Bush - sitting President | H84: 9199463 | I84: 50
D85: Pat Buchanan | H85: 2899488 | I85: 0
B87: 1996
C88: Democratic Party
D89: Bill Clinton - sitting President | E89: 9706802 | G89: 50
D90: Lyndon LaRouche | E90: 596422 | G90: 0
C91: Republican Party
D92: Bob Dole | H92: 9024742 | I92: 44
D93: Pat Buchanan | H93: 3184943 | I93: 4
D94: Steve Forbes | H94: 1751187 | I94: 2
B96: 2000
C97: Democratic Party
D98: Al Gore - sitting Vice-President | E98: 10885814 | F98: 3007 | G98: 50
D99: Bill Bradley | E99: 3027912 | F99: 522 | G99: 0
C100: Republican Party
D101: George W Bush | H101: 12034676 | I101: 43
D102: John McCain | H102: 6061332 | I102: 7
D103: Alan Keyes | H103: 985819 | I103: 0
B105: 2004
C106: Democratic Party
D107: John Kerry | E107: 9930497 | G107: 46
D108: John Edwards | E108: 3162337 | G108: 2
D109: Howard Dean | E109: 903460 | G109: 1
D110: Wesley Clark | E110: 547369 | G110: 1
C111: Republican Party
...

Sheet Cityscape graphic
C3: Republican | D3: Republican | E3: Republican | F3: Republican winner | H3: Democratic winner | I3: Democratic | J3: Democratic | K3: Democratic | M3: total of top four
B5: 1968 | D5: 614492 | E5: 1679443 | F5: 1696632 | H5: 2914933 | I5: 2305148 | J5: 549140 | K5: 383590 | M5: =SUM(C5:F5) -> 3990567 | N5: =SUM(H5:K5) -> 6152811
B6: 1972 | D6: 132731 | E6: 317048 | F6: 5378704 | H6: 4053451 | I6: 4121372 | J6: 3755424 | K6: 1840217 | M6: =SUM(C6:F6) -> 5828483 | N6: =SUM(H6:K6) -> 13770464
B7: 1976 | E7: 4760222 | F7: 5529899 | H7: 6971770 | I7: 2449374 | J7: 2236186 | K7: 1611754 | M7: =SUM(C7:F7) -> 10290121 | N7: =SUM(H7:K7) -> 13269084
B8: 1980 | D8: 1572174 | E8: 3070033 | F8: 7709793 | H8: 10043016 | I8: 7381693 | M8: =SUM(C8:F8) -> 12352000 | N8: =SUM(H8:K8) -> 17424709
B9: 1984 | F9: 6484987 | H9: 6952912 | I9: 6504842 | J9: 3282431 | M9: =SUM(C9:F9) -> 6484987 | N9: =SUM(H9:K9) -> 16740185
B10: 1988 | D10: 1097446 | E10: 2333375 | F10: 8253512 | H10: 10024101 | I10: 6941816 | J10: 3190992 | K10: 1452331 | M10: =SUM(C10:F10) -> 11684333 | N10: =SUM(H10:K10) -> 21609240
B11: 1992 | E11: 2899488 | F11: 9199463 | H11: 10482411 | I11: 4071232 | J11: 3656010 | K11: 318457 | M11: =SUM(C11:F11) -> 12098951 | N11: =SUM(H11:K11) -> 18528110
B12: 1996 | D12: 1751187 | E12: 3184943 | F12: 9024742 | H12: 9706802 | I12: 596422 | M12: =SUM(C12:F12) -> 13960872 | N12: =SUM(H12:K12) -> 10303224
B13: 2000 | D13: 985819 | E13: 6061332 | F13: 12034676 | H13: 10885814 | I13: 3027912 | M13: =SUM(C13:F13) -> 19081827 | N13: =SUM(H13:K13) -> 13913726
B14: 2004 | F14: 7853863 | H14: 9930497 | I14: 3162337 | J14: 903460 | K14: 547369 | M14: =SUM(C14:F14) -> 7853863 | N14: =SUM(H14:K14) -> 14543663
B15: 2008 | C15: 1160403 | D15: 4276046 | E15: 4669788 | F15: 9902797 | H15: 17857501 | I15: 17584692 | M15: =SUM(C15:F15) -> 20009034 | N15: =SUM(H15:K15) -> 35442193
B16: 2012 | C16: 2095795 | D16: 2734570 | E16: 3932069 | F16: 10031336 | H16: 6158064 | M16: =SUM(C16:F16) -> 18793770 | N16: =SUM(H16:K16) -> 6158064

Sheet Clinton-Sanders projection
D1: Elected delegates | I1: With known unpledged delegates
D3: Sanders | E3: Clinton | F3: Sanders | G3: Clinton | J3: Sanders | K3: Clinton
B4: Iowa | C4: 1 | D4: 21.511111 | E4: 22.488889 | F4: 21.511111 | G4: 22.488889 | I4: 1 | J4: 33 | K4: 353
B5: New Hampshire | C5: 2 | D5: =D4+F5 -> 34.60202 | E5: =E4+G5 -> 33.39798 | F5: 13.090909 | G5: 10.909091 | I5: 2 | J5: =J4+F5 -> 46.090909 | K5: =K4+G5 -> 363.90909
B6: Nevada | C6: 3 | D6: =D5+F6 -> 49.379798 | E6: =E5+G6 -> 53.620202 | F6: 14.777778 | G6: 20.222222 | I6: 3 | J6: =J5+F6 -> 60.868687 | K6: =K5+G6 -> 384.13131
B7: South Carolina | C7: 4 | D7: =D6+F7 -> 66.415512 | E7: =E6+G7 -> 89.584488 | F7: 17.035714 | G7: 35.964286 | I7: 4 | J7: =J6+F7 -> 77.904401 | K7: =K6+G7 -> 420.0956
B8: Alabama | C8: 5 | D8: =D7+F8 -> 83.250806 | E8: =E7+G8 -> 125.74919 | F8: 16.835294 | G8: 36.164706 | I8: 5 | J8: =J7+F8 -> 94.739695 | K8: =K7+G8 -> 456.2603
B9: Arkansas | C9: 6 | D9: =D8+F9 -> 93.536521 | E9: =E8+G9 -> 147.46348 | F9: 10.285714 | G9: 21.714286 | I9: 6 | J9: =J8+F9 -> 105.02541 | K9: =K8+G9 -> 477.97459
B10: Colorado | C10: 7 | D10: =D9+F10 -> 128.73652 | E10: =E9+G10 -> 178.26348 | F10: 35.2 | G10: 30.8 | I10: 7 | J10: =J9+F10 -> 140.22541 | K10: =K9+G10 -> 508.77459
B11: Georgia | C11: 8 | D11: =D10+F11 -> 162.73652 | E11: =E10+G11 -> 246.26348 | F11: 34 | G11: 68 | I11: 8 | J11: =J10+F11 -> 174.22541 | K11: =K10+G11 -> 576.77459
B12: Massachusetts | C12: 9 | D12: =D11+F12 -> 206.73652 | E12: =E11+G12 -> 293.26348 | F12: 44 | G12: 47 | I12: 9 | J12: =J11+F12 -> 218.22541 | K12: =K11+G12 -> 623.77459
B13: Minnesota | C13: 10 | D13: =D12+F13 -> 248.73652 | E13: =E12+G13 -> 328.26348 | F13: 42 | G13: 35 | I13: 10 | J13: =J12+F13 -> 260.22541 | K13: =K12+G13 -> 658.77459
B14: Oklahoma | C14: 11 | D14: =D13+F14 -> 264.20164 | E14: =E13+G14 -> 350.79836 | F14: 15.465116 | G14: 22.534884 | I14: 11 | J14: =J13+F14 -> 275.69053 | K14: =K13+G14 -> 681.30947
B15: Tennessee | C15: 12 | D15: =D14+F15 -> 289.42517 | E15: =E14+G15 -> 392.57483 | F15: 25.223529 | G15: 41.776471 | I15: 12 | J15: =J14+F15 -> 300.91406 | K15: =K14+G15 -> 723.08594
B16: Texas | C16: 13 | D16: =D15+F16 -> 376.63945 | E16: =E15+G16 -> 527.36055 | F16: 87.214286 | G16: 134.78571 | I16: 13 | J16: =J15+F16 -> 388.12834 | K16: =K15+G16 -> 857.87166
... B54: Washington, D.C. | C54: 51 | D54: =D53+F54 -> 1695.9781 | E54: =E53+G54 -> 2256.0219 | F54: 7.1910112 | G54: 12.808989 | I54: 51 | J54: =J53+F54 -> 1707.467 | K54: =K53+G54 -> 2586.533
C56: 57
